BEGIN:VCALENDAR
VERSION:2.0
PRODID:icalendar-ruby
CALSCALE:GREGORIAN
BEGIN:VEVENT
DTSTAMP:20260329T135440Z
UID:event-occurrence-6c0a94e3-83ac-475d-9e6c-d98326f4d590-event-4bea8d3f-40
 66-4d7d-bf63-8a9392bb82ae@termine-e
DTSTART:20260513T160000
DTEND:20260513T000000
CLASS:PUBLIC
DESCRIPTION:Du magst nicht gern allein stricken oder häkeln? Dann komm vor
 bei!Wir sind die Strickliesen und treffen uns regelmäßig mittwochs von 1
 6 bis 18 Uhr im „Papphaus“ der Michaeliskirchengemeinde in Ronnenberg 
 (Am Kirchhofe 4e). Die Teilnahme ist kostenlos. Schnapp dir deine Wolle un
 d los geht’s! Wir freuen uns auf dich.Auskunft und Anmeldung: Ramona Rog
 ge\, Tel. 01520 9286870\, E-Mail Roggeramona3@gmail.com
LOCATION:„Papphaus“\, Am Kirchhofe 4e\, 30952\, Ronnenberg
SUMMARY:Strickliesen in Ronnenberg
END:VEVENT
END:VCALENDAR
