BEGIN:VCALENDAR
VERSION:2.0
PRODID:icalendar-ruby
CALSCALE:GREGORIAN
BEGIN:VEVENT
DTSTAMP:20260327T123324Z
UID:event-occurrence-455c2875-5e13-4ee0-84e6-0b988d5721b8-event-4ba32340-8e
 ad-4a03-bfc2-97327e644651@termine-e
DTSTART:20260524T100000
DTEND:20260524T000000
CLASS:PUBLIC
DESCRIPTION:Pastor Marc Blessing | Matthias Flierl\, Orgel | Jugendchor der
  Marktkirche\, Ltg. Lisa Laage-Smidt
LOCATION:Marktkirche Hannover\, Hanns-Lilje-Platz 2\, 30159\, Hannover
SUMMARY:Pfingstsonntag: Festgottesdienst mit Konfirmation
END:VEVENT
END:VCALENDAR
