BEGIN:VCALENDAR
VERSION:2.0
PRODID:icalendar-ruby
CALSCALE:GREGORIAN
BEGIN:VEVENT
DTSTAMP:20260312T154533Z
UID:event-occurrence-d2ff604c-329f-44eb-81ca-0c180f94a078-event-4b7ef7e7-fe
 0d-40ba-87ae-46b00c4021d9@termine-e
DTSTART:20261031T180000
DTEND:20261031T000000
CLASS:PUBLIC
DESCRIPTION:Pastor Hellmich
LOCATION:St. Primus-Kirche\, An der Kirche\, 21698\, Bargstedt
SUMMARY:Regio Gottesdienst zum Reformationsfest in Bargstedt
END:VEVENT
END:VCALENDAR
