BEGIN:VCALENDAR
VERSION:2.0
PRODID:icalendar-ruby
CALSCALE:GREGORIAN
BEGIN:VEVENT
DTSTAMP:20260414T161047Z
UID:event-occurrence-498bc405-9c83-456d-b092-8c9599e614fc-event-4aa056af-be
 7c-4ab0-aa00-a1cb829ff3e8@termine-e
DTSTART:20260521T160000
DTEND:20260521T000000
CLASS:PUBLIC
DESCRIPTION:Ölbäume KU7
LOCATION:
SUMMARY:Ölbäume KU7
END:VEVENT
END:VCALENDAR
