BEGIN:VCALENDAR
VERSION:2.0
PRODID:icalendar-ruby
CALSCALE:GREGORIAN
BEGIN:VEVENT
DTSTAMP:20260407T100648Z
UID:event-occurrence-574aa53e-c7ca-4145-b383-13b27d2b986f-event-4a703f86-89
 98-4047-b5b5-de35b8524228@termine-e
DTSTART:20260614T100000
DTEND:20260614T000000
CLASS:PUBLIC
DESCRIPTION:2. Sonntag nach TrinitatisGottesdienstLiturg. Leitung: Pastor T
 olsdorf
LOCATION:Kirche Ardorf\, Hohebarger Str.\, 26409\, Wittmund
SUMMARY:Gottesdienst in Ardorf
END:VEVENT
END:VCALENDAR
