BEGIN:VCALENDAR
VERSION:2.0
PRODID:icalendar-ruby
CALSCALE:GREGORIAN
BEGIN:VEVENT
DTSTAMP:20260313T211110Z
UID:event-occurrence-774b1b2f-5665-4a87-a121-9b7e3c5d103c-event-4a41b371-9c
 d8-4906-a99d-6c63d21dc0fe@termine-e
DTSTART:20260518T193000
DTEND:20260518T203000
CLASS:PUBLIC
DESCRIPTION:Der Sprengelposaunenchor Lüneburg lädt unter der Leitung von 
 Landesposaunenwart Lennart Rübke zum gemeinsamen Singen von Abendliedern 
 ein.Seit Generationen begleitet das Lied „Der Mond ist aufgegangen“ Me
 nschen am Abend – tröstend\, nachdenklich und zugleich voller Zuversich
 t. Seine schlichten Worte und die eingängige Melodie sprechen von der Sch
 önheit der Schöpfung\, von menschlicher Begrenztheit und von Vertrauen\,
  das über den Tag hinaus trägt. In einer Zeit\, die oft von Unruhe gepr
 ägt ist\, s...
LOCATION:St. Laurentius Kirche\, Südergellerser Str. 1\, 21394\, Kirchgell
 ersen
SUMMARY:Der Mond und mehr
END:VEVENT
END:VCALENDAR
