BEGIN:VCALENDAR
VERSION:2.0
PRODID:icalendar-ruby
CALSCALE:GREGORIAN
BEGIN:VEVENT
DTSTAMP:20260420T095222Z
UID:event-occurrence-dd4a34f6-10db-452a-af25-478af08dc544-event-48344297-7e
 97-42cf-85c2-cc4cfc759ccf@termine-e
DTSTART:20260509T140000
DTEND:20260509T000000
CLASS:PUBLIC
DESCRIPTION:„Luft und Lieder“ ist ein offenes Mitmach-Konzert\, das all
 e Menschen einlädt\, die Freude am gemeinsamen Singen und bewussten Umgan
 g mit der eigenen Stimme haben. Im Mittelpunkt steht das gemeinschaftliche
  und möglichst gesunde Singen\, unabhängig von musikalischer Vorerfahrun
 g oder stimmlicher Ausbildung. Die Teilnehmenden sind eingeladen\, aktiv m
 itzusingen\, zuzuhören\, auszuprobieren und die eigene Stimme neu oder ve
 rtieft wahrzunehmen.Zwischen den einzelnen Liedern erhalten die Teilnehmen
 den ...
LOCATION:Mahnmal St. Aegidien\, Aegidienkirchhof 1\, 30159\, Hannover
SUMMARY:Luft und Lieder
END:VEVENT
END:VCALENDAR
