BEGIN:VCALENDAR
VERSION:2.0
PRODID:icalendar-ruby
CALSCALE:GREGORIAN
BEGIN:VEVENT
DTSTAMP:20260316T105615Z
UID:event-occurrence-ff03e89e-12b1-4e20-afe5-80c9b3143635-event-470df4d7-70
 03-4cea-a384-ddb9c69119cb@termine-e
DTSTART:20260314T110000
DTEND:20260418T170000
CLASS:PUBLIC
DESCRIPTION:„Entheimatet“ ist eine als Wanderausstellung konzipierte k
 ünstlerische Rauminstallation mit szenischer Musik (T. Prelevic). Im Mitt
 elpunkt steht die Sehnsucht eines jungen Soldaten nach Frieden und Heimat.
  Grundlage bildet das Kriegstagebuch von Gerhard Lippok aus den Jahren 194
 4/45\, dem Vater der hannoverschen Künstlerin Inge-Rose Lippok. Die Ausst
 ellung ist die vierte Station des Projekts und wird von einem Workshop sow
 ie einer Vernissage mit Beiträgen von Pfarrer Dr. Martin Wendte und der .
 ..
LOCATION:Friedenskirche Ludwigsburg\, Stuttgarter Str. 42\, 71638\, Ludwigs
 burg
SUMMARY:Wanderausstellung "Entheimatet" von Inge-Rose Lippok
END:VEVENT
END:VCALENDAR
