BEGIN:VCALENDAR
VERSION:2.0
PRODID:icalendar-ruby
CALSCALE:GREGORIAN
BEGIN:VEVENT
DTSTAMP:20260407T094849Z
UID:event-occurrence-f0f3d460-a6c7-44fe-8e8d-55c5369f368f-event-4638202e-b8
 d3-4d82-998c-013585a5b312@termine-e
DTSTART:20260523T100000
DTEND:20260523T120000
CLASS:PUBLIC
DESCRIPTION:KinderkircheLeitung: Pastorin Stecher\, KiGo-Team
LOCATION:Gemeindehaus St. Nicolai Wittmund\, Kirchplatz 3\, 26409\, Wittmun
 d
SUMMARY:Kinderkirche
END:VEVENT
END:VCALENDAR
