BEGIN:VCALENDAR
VERSION:2.0
PRODID:icalendar-ruby
CALSCALE:GREGORIAN
BEGIN:VEVENT
DTSTAMP:20260422T211251Z
UID:event-occurrence-52be4cc1-4310-43c1-a3d3-12c0d7850f84-event-4600160f-94
 78-4166-9e28-538e1cbdfbba@termine-e
DTSTART:20261015T190000
DTEND:20261015T220000
CLASS:PUBLIC
LOCATION:St. Thomas\, Bremer Str. 70\, 49163\, Bohmte
SUMMARY:KV-Sitzung
END:VEVENT
END:VCALENDAR
