BEGIN:VCALENDAR
VERSION:2.0
PRODID:icalendar-ruby
CALSCALE:GREGORIAN
BEGIN:VEVENT
DTSTAMP:20260419T154634Z
UID:event-occurrence-c5c9f6dc-b91e-46bc-b68c-00afc634c06e-event-457b69e1-1b
 40-4390-be4d-bcf8d9dada6f@termine-e
DTSTART:20260426T121500
DTEND:20260426T000000
CLASS:PUBLIC
DESCRIPTION:Herzlich laden wir Sie zur Gemeindeversammlung am Sonntag\, dem
  26. April ein.Wir beginnen um 11:00 Uhr mit der Feier der Messe\, im Ansc
 hluss gibt es Kaffee und Tee und wir kommen noch einmal zur Gemeindeversam
 mlung zusammen.Wir als Kirchenvorstand möchten hören\, was Sie bewegt:Wi
 e nehmen Sie unsere Gemeinde wahr?Was ist Ihnen wichtig?Wo erleben Sie Fre
 ude\, wo vielleicht auch Fragen oder Sorgen?Zugleich möchten wir Ihnen al
 s Gemeindeleitung berichten\, was uns derzeit beschäftigt und welche The.
 ..
LOCATION:Ev.-luth. Gnadenkirche zum Heiligen Kreuz\, Lehrter Platz 5\, 3051
 9\, Hannover
SUMMARY:Gemeindeversammlung - Im Anschluss an den Gottesdienst
END:VEVENT
END:VCALENDAR
