BEGIN:VCALENDAR
VERSION:2.0
PRODID:icalendar-ruby
CALSCALE:GREGORIAN
BEGIN:VEVENT
DTSTAMP:20260421T133254Z
UID:event-occurrence-70d45e08-f034-4a7c-84ee-f6e8a70b2994-event-450d7245-96
 52-48c4-aec5-86babce71dde@termine-e
DTSTART:20260503T110000
DTEND:20260503T000000
CLASS:PUBLIC
LOCATION:Gollau
SUMMARY:Gottesdienst zum Schützenfest mit demPosaunenchor- P. Michael Ketz
 enberg
END:VEVENT
END:VCALENDAR
