BEGIN:VCALENDAR
VERSION:2.0
PRODID:icalendar-ruby
CALSCALE:GREGORIAN
BEGIN:VEVENT
DTSTAMP:20260416T045400Z
UID:event-occurrence-25a5eec1-ea84-4c84-a9a9-1e3c502fac07-event-44843fad-00
 fa-4ba8-b9ec-6ce06af221d0@termine-e
DTSTART:20260830T170000
DTEND:20260830T000000
CLASS:PUBLIC
DESCRIPTION:In Freizeiterinnerungen schwelgen\, neue Freundschaften pflegen
 \, gemeinsame zeit feiern. All das wollen wir beim Summer Revival!EIn Gott
 esdienst mit anschließendem Socialising für alle Freizeitteilnehmenden\,
  Angehörige und Interessierte.Hier danken wir auch den Teams der verschie
 denen Freizeiten\, verabscxhieden unsere FSJlerin Sera und begrüßen jema
 nden im neuen FSJ-Jahr.
LOCATION:Str. Michaelis Kirche in Heemsen\, Dorfstraße\, 31622\, Heemsen
SUMMARY:Summer Revival 2026
END:VEVENT
END:VCALENDAR
