BEGIN:VCALENDAR
VERSION:2.0
PRODID:icalendar-ruby
CALSCALE:GREGORIAN
BEGIN:VEVENT
DTSTAMP:20260414T130228Z
UID:event-occurrence-cca8594e-74a9-44f5-bb9d-dec0d57ce0ef-event-447139c6-c3
 12-40e9-97d8-5cac6bc04133@termine-e
DTSTART:20260514T100000
DTEND:20260514T000000
CLASS:PUBLIC
DESCRIPTION:Gottesdienst mit Lektorin Tanja Garms
LOCATION:Martinskirche\, An der Martinskirche\, 28865\, Lilienthal
SUMMARY:Gottesdienst Martinskirche Lilienthal
END:VEVENT
END:VCALENDAR
