BEGIN:VCALENDAR
VERSION:2.0
PRODID:icalendar-ruby
CALSCALE:GREGORIAN
BEGIN:VEVENT
DTSTAMP:20260423T140341Z
UID:event-occurrence-7f583c68-a13f-4a49-8da9-9f58e428e844-event-436571b6-34
 d3-4774-b483-6f08a1da6c9f@termine-e
DTSTART:20260507T160000
DTEND:20260507T000000
CLASS:PUBLIC
DESCRIPTION:Stellprobe Weinreben KU8
LOCATION:
SUMMARY:Stellprobe Weinreben KU8
END:VEVENT
END:VCALENDAR
