BEGIN:VCALENDAR
VERSION:2.0
PRODID:icalendar-ruby
CALSCALE:GREGORIAN
BEGIN:VEVENT
DTSTAMP:20260418T110043Z
UID:event-occurrence-4a7031f2-383a-42d7-9e40-a435f3bd1599-event-4123d322-38
 53-462d-8943-855cd2312f69@termine-e
DTSTART:20260510T100000
DTEND:20260510T000000
CLASS:PUBLIC
LOCATION:St. Mauritius Kirche\, 49201\, Dissen aTW
SUMMARY:Gottesdienst\, Lektorin Klose
END:VEVENT
END:VCALENDAR
