BEGIN:VCALENDAR
VERSION:2.0
PRODID:icalendar-ruby
CALSCALE:GREGORIAN
BEGIN:VEVENT
DTSTAMP:20260422T211442Z
UID:event-occurrence-0e227c96-cc7f-4ded-bae7-3ef0883d40c7-event-40a04ebc-8f
 7f-4ae3-9aa2-615c8e969f66@termine-e
DTSTART:20261203T190000
DTEND:20261203T220000
CLASS:PUBLIC
LOCATION:St. Thomas\, Bremer Str. 70\, 49163\, Bohmte
SUMMARY:KV-Sitzung
END:VEVENT
END:VCALENDAR
