BEGIN:VCALENDAR
VERSION:2.0
PRODID:icalendar-ruby
CALSCALE:GREGORIAN
BEGIN:VEVENT
DTSTAMP:20260326T111108Z
UID:event-occurrence-268265a6-351b-4957-a770-f0083c5d61b3-event-40010e3c-5e
 be-48fa-874f-4e976c913469@termine-e
DTSTART:20270317T140000
DTEND:20270318T130000
CLASS:PUBLIC
DESCRIPTION:Die Frage der Lebensqualität ist – gerade für ältereMensch
 en – eng mit der Frage nach dem Wohnen imAlter verbunden\, denn Wohnunge
 n und Wohnumfeldwerden für Ältere immer mehr zum Mittelpunkt desLebens. 
 Und so wundert es nicht\, dass die Beschäftigungmit der geeigneten Wohn- 
 und Lebensform imAlter zu einer zentralen Fragestellung wird. Das Angebotg
 eeigneter Wohnformen ist vielfältig. Doch welcheWohnform passt wirklich? 
 Wie möchten Menschenim Alter wohnen und leben? Wie lassen sich dieeigenen
  Vor...
LOCATION:
SUMMARY:älterwerden.endlich.leben Modul 4_Wohn(T)räume – Leben und Wohn
 en im Alter
END:VEVENT
END:VCALENDAR
