BEGIN:VCALENDAR
VERSION:2.0
PRODID:icalendar-ruby
CALSCALE:GREGORIAN
BEGIN:VEVENT
DTSTAMP:20260422T070310Z
UID:event-occurrence-d5293aa2-dd9d-4edb-8398-ad5e3fa7f7cb-event-3f9af858-e5
 e2-4801-bb14-433a62cba771@termine-e
DTSTART:20260503T110000
DTEND:20260503T000000
CLASS:PUBLIC
DESCRIPTION:Konfirmation IImit P. I. Jäckel und der Gitarrenjugend Loga
LOCATION:Friedenskirche Loga\, Hindenburgstr. 6\, 26789\, Leer
SUMMARY:Konfirmation
END:VEVENT
END:VCALENDAR
