BEGIN:VCALENDAR
VERSION:2.0
PRODID:icalendar-ruby
CALSCALE:GREGORIAN
BEGIN:VEVENT
DTSTAMP:20260326T104907Z
UID:event-occurrence-4f088c7e-9357-4347-b809-02aa04874411-event-3dfbabff-8c
 3e-4003-8ab6-622abf0ee862@termine-e
DTSTART:20260601T170000
DTEND:20260601T190000
CLASS:PUBLIC
DESCRIPTION:Informationsveranstaltungälterwerden.endlich.lebenÜberblick u
 nd Informationen zu Inhalt undAblauf des Qualifizierungskurses1. Juni 2026
 \, 17.00 bis 19.00 Uhr\, digitalDie Infoveranstaltung bietet einen Überbl
 ick über die Konzeption und die Ziele des Gesamtkurses\, über denAblauf 
 und den Inhalt der einzelnen Module\, über Voraussetzungen zur Teilnahme\
 , über die Möglichkeit\,ein Zertifikat zu erwerben\, über die Veranstal
 tenden und die Referierenden\, über Ansprechpartner*innenund Anmeldeverfa
 hren und...
LOCATION:
SUMMARY:Infoveranstaltung älterwerden.endlich.leben
END:VEVENT
END:VCALENDAR
