BEGIN:VCALENDAR
VERSION:2.0
PRODID:icalendar-ruby
CALSCALE:GREGORIAN
BEGIN:VEVENT
DTSTAMP:20260326T130849Z
UID:event-occurrence-4faf59e3-a8d3-4276-a559-007bffbe3c96-event-3ca4fa72-89
 44-4c79-988d-d55cf4cf46cf@termine-e
DTSTART:20270915T100000
DTEND:20270916T160000
CLASS:PUBLIC
DESCRIPTION:Wie bin ich zu dem Menschen geworden\, der ich jetztbin? Was be
 deutet Leben für mich jetzt\, und was willich noch für mein Leben? Diese
  und ähnliche Fragentauchen auf\, wenn wir in die nachberufliche Lebensph
 asestarten. Wenn wir Vertrautes loslassen müssen\,ist dies häufig Anlass
  für eine Zwischenbilanzund Zukunftsplanungen. Wenn die eigenen Kräftena
 chlassen und die Pflege- und Hilfsbedürftigkeit zunimmt\,wird der Blick a
 uf das eigene Leben häufig unausweichlich.Ziel des Moduls ist es\, sensib
 el fü...
LOCATION:Stephansstift Zentrum für Erwachsenenbildung gGmbH\, Kirchröder 
 Straße 44\, 30625\, Hannover
SUMMARY:älterwerden.endlich.leben Modul 8_Biografiearbeit ist Schatzsuche 
 – Biografisch orientierte Arbeit mit Älteren
END:VEVENT
END:VCALENDAR
