BEGIN:VCALENDAR
VERSION:2.0
PRODID:icalendar-ruby
CALSCALE:GREGORIAN
BEGIN:VEVENT
DTSTAMP:20260413T065355Z
UID:event-occurrence-836303ef-0b87-4271-99d8-9b66884f1908-event-3c868854-c7
 d5-45e2-a0d6-a0550b70f795@termine-e
DTSTART:20260814T163000
DTEND:20260814T000000
CLASS:PUBLIC
DESCRIPTION:Pn. WeidnerMusik: v. d. Heide\, Gitarre
LOCATION:Kapelle zum guten Hirten\, Eichenbrink\, 31812\, Bad Pyrmont
SUMMARY:Gottesdienst zur Einschulung
END:VEVENT
END:VCALENDAR
