BEGIN:VCALENDAR
VERSION:2.0
PRODID:icalendar-ruby
CALSCALE:GREGORIAN
BEGIN:VEVENT
DTSTAMP:20260416T112939Z
UID:event-occurrence-9a495f21-fb34-4e8a-b6c0-f738752546d6-event-3c7971c8-8d
 05-4985-bcb8-798e393e6037@termine-e
DTSTART:20260612T183000
DTEND:20260612T000000
CLASS:PUBLIC
LOCATION:Kleine Kirche\, Große Domsfreiheit\, 49074\, Osnabrück
SUMMARY:Taizé Gebet in der kleinen Kirche
END:VEVENT
END:VCALENDAR
