BEGIN:VCALENDAR
VERSION:2.0
PRODID:icalendar-ruby
CALSCALE:GREGORIAN
BEGIN:VEVENT
DTSTAMP:20260408T194140Z
UID:event-occurrence-97d55588-bcff-4a03-b369-3c2f4b692e53-event-3c20ce27-e5
 6f-41f5-8c69-20ff86fa839f@termine-e
DTSTART:20260425T190000
DTEND:20260425T000000
CLASS:PUBLIC
DESCRIPTION:1. Teil der Konfirmation
LOCATION:Kirche Rhade\, Hauptstraße 8\, 27404\, Rhade
SUMMARY:Beichte und Abendmahl
END:VEVENT
END:VCALENDAR
