BEGIN:VCALENDAR
VERSION:2.0
PRODID:icalendar-ruby
CALSCALE:GREGORIAN
BEGIN:VEVENT
DTSTAMP:20260328T121009Z
UID:event-occurrence-0e306411-700a-46e5-bdd3-fbe4bfdb9f38-event-3ba69c69-bb
 a8-4d90-ab07-582359d7d3b8@termine-e
DTSTART:20260522T200000
DTEND:20260522T000000
CLASS:PUBLIC
DESCRIPTION:Wir sind eine überkonfessionelle Gruppe von Menschen aus der R
 eddernachbarschaft\, die sich über Themen rund um Glaube und Christsein a
 ustauschen. Interessierte sind herzlich willkommen! Im Moment sehen wir di
 e Jesus-Serie The Chosen und kommen darüber ins Gespräch.
LOCATION:Miriam Schäfer\, Im Sandbrook 22\, 21698\, Harsefeld
SUMMARY:Glaube im Gespräch
END:VEVENT
END:VCALENDAR
