BEGIN:VCALENDAR
VERSION:2.0
PRODID:icalendar-ruby
CALSCALE:GREGORIAN
BEGIN:VEVENT
DTSTAMP:20260401T082220Z
UID:event-occurrence-3e79c2fa-e363-49b0-885b-7f42ec608ebc-event-3b877ed4-67
 97-43b0-8f65-f6e47ae409ec@termine-e
DTSTART:20260407T153000
DTEND:20260407T000000
CLASS:PUBLIC
DESCRIPTION:mit Pastorin Anna-Katharina Diehl
LOCATION:Seniorenzentrum Weende\, Max-Born- Ring 38\, 37077\, Göttingen
SUMMARY:Gottesdienst
END:VEVENT
BEGIN:VEVENT
DTSTAMP:20260401T082220Z
UID:event-occurrence-8681c190-04fa-4752-9935-c5336b8aa2cb-event-3b877ed4-67
 97-43b0-8f65-f6e47ae409ec@termine-e
DTSTART:20260505T153000
DTEND:20260505T000000
CLASS:PUBLIC
DESCRIPTION:mit Pastorin Anna-Katharina Diehl
LOCATION:Seniorenzentrum Weende\, Max-Born- Ring 38\, 37077\, Göttingen
SUMMARY:Gottesdienst
END:VEVENT
BEGIN:VEVENT
DTSTAMP:20260401T082220Z
UID:event-occurrence-d89a4f6c-9d66-48af-b5b4-254f7eaee785-event-3b877ed4-67
 97-43b0-8f65-f6e47ae409ec@termine-e
DTSTART:20260602T153000
DTEND:20260602T000000
CLASS:PUBLIC
DESCRIPTION:mit Pastorin Anna-Katharina Diehl
LOCATION:Seniorenzentrum Weende\, Max-Born- Ring 38\, 37077\, Göttingen
SUMMARY:Gottesdienst
END:VEVENT
BEGIN:VEVENT
DTSTAMP:20260401T082220Z
UID:event-occurrence-e97a420d-e3e6-4df2-9c93-43bb4c94bde8-event-3b877ed4-67
 97-43b0-8f65-f6e47ae409ec@termine-e
DTSTART:20260707T153000
DTEND:20260707T000000
CLASS:PUBLIC
DESCRIPTION:mit Pastorin Anna-Katharina Diehl
LOCATION:Seniorenzentrum Weende\, Max-Born- Ring 38\, 37077\, Göttingen
SUMMARY:Gottesdienst
END:VEVENT
BEGIN:VEVENT
DTSTAMP:20260401T082220Z
UID:event-occurrence-e7c57ec3-d7cf-4cb7-98be-5d873388efb7-event-3b877ed4-67
 97-43b0-8f65-f6e47ae409ec@termine-e
DTSTART:20260804T153000
DTEND:20260804T000000
CLASS:PUBLIC
DESCRIPTION:mit Pastorin Anna-Katharina Diehl
LOCATION:Seniorenzentrum Weende\, Max-Born- Ring 38\, 37077\, Göttingen
SUMMARY:Gottesdienst
END:VEVENT
BEGIN:VEVENT
DTSTAMP:20260401T082220Z
UID:event-occurrence-8fbe96aa-56ce-42b4-8c9f-fa412c995ca3-event-3b877ed4-67
 97-43b0-8f65-f6e47ae409ec@termine-e
DTSTART:20260901T153000
DTEND:20260901T000000
CLASS:PUBLIC
DESCRIPTION:mit Pastorin Anna-Katharina Diehl
LOCATION:Seniorenzentrum Weende\, Max-Born- Ring 38\, 37077\, Göttingen
SUMMARY:Gottesdienst
END:VEVENT
BEGIN:VEVENT
DTSTAMP:20260401T082220Z
UID:event-occurrence-81b0a8e3-608d-48ef-bbc1-072b7253a882-event-3b877ed4-67
 97-43b0-8f65-f6e47ae409ec@termine-e
DTSTART:20261006T153000
DTEND:20261006T000000
CLASS:PUBLIC
DESCRIPTION:mit Pastorin Anna-Katharina Diehl
LOCATION:Seniorenzentrum Weende\, Max-Born- Ring 38\, 37077\, Göttingen
SUMMARY:Gottesdienst
END:VEVENT
BEGIN:VEVENT
DTSTAMP:20260401T082220Z
UID:event-occurrence-7a7d1805-4826-4928-b102-e481fa981079-event-3b877ed4-67
 97-43b0-8f65-f6e47ae409ec@termine-e
DTSTART:20261103T153000
DTEND:20261103T000000
CLASS:PUBLIC
DESCRIPTION:mit Pastorin Anna-Katharina Diehl
LOCATION:Seniorenzentrum Weende\, Max-Born- Ring 38\, 37077\, Göttingen
SUMMARY:Gottesdienst
END:VEVENT
BEGIN:VEVENT
DTSTAMP:20260401T082220Z
UID:event-occurrence-e92d47ea-cc52-4df0-b05a-d4f863d6ffb6-event-3b877ed4-67
 97-43b0-8f65-f6e47ae409ec@termine-e
DTSTART:20261201T153000
DTEND:20261201T000000
CLASS:PUBLIC
DESCRIPTION:mit Pastorin Anna-Katharina Diehl
LOCATION:Seniorenzentrum Weende\, Max-Born- Ring 38\, 37077\, Göttingen
SUMMARY:Gottesdienst
END:VEVENT
BEGIN:VEVENT
DTSTAMP:20260401T082220Z
UID:event-occurrence-d79f0091-4cf6-4170-b8c0-527504e7c488-event-3b877ed4-67
 97-43b0-8f65-f6e47ae409ec@termine-e
DTSTART:20270105T153000
DTEND:20270105T000000
CLASS:PUBLIC
DESCRIPTION:mit Pastorin Anna-Katharina Diehl
LOCATION:Seniorenzentrum Weende\, Max-Born- Ring 38\, 37077\, Göttingen
SUMMARY:Gottesdienst
END:VEVENT
BEGIN:VEVENT
DTSTAMP:20260401T082220Z
UID:event-occurrence-f33718a6-9700-4a77-bf92-e6e73ceca934-event-3b877ed4-67
 97-43b0-8f65-f6e47ae409ec@termine-e
DTSTART:20270202T153000
DTEND:20270202T000000
CLASS:PUBLIC
DESCRIPTION:mit Pastorin Anna-Katharina Diehl
LOCATION:Seniorenzentrum Weende\, Max-Born- Ring 38\, 37077\, Göttingen
SUMMARY:Gottesdienst
END:VEVENT
BEGIN:VEVENT
DTSTAMP:20260401T082220Z
UID:event-occurrence-56a0733d-6288-4a4c-aac4-20202c4f3422-event-3b877ed4-67
 97-43b0-8f65-f6e47ae409ec@termine-e
DTSTART:20270302T153000
DTEND:20270302T000000
CLASS:PUBLIC
DESCRIPTION:mit Pastorin Anna-Katharina Diehl
LOCATION:Seniorenzentrum Weende\, Max-Born- Ring 38\, 37077\, Göttingen
SUMMARY:Gottesdienst
END:VEVENT
BEGIN:VEVENT
DTSTAMP:20260401T082220Z
UID:event-occurrence-c1710cfb-431a-41ae-80f6-5164a4a0553b-event-3b877ed4-67
 97-43b0-8f65-f6e47ae409ec@termine-e
DTSTART:20270406T153000
DTEND:20270406T000000
CLASS:PUBLIC
DESCRIPTION:mit Pastorin Anna-Katharina Diehl
LOCATION:Seniorenzentrum Weende\, Max-Born- Ring 38\, 37077\, Göttingen
SUMMARY:Gottesdienst
END:VEVENT
BEGIN:VEVENT
DTSTAMP:20260401T082220Z
UID:event-occurrence-992b4728-8259-4876-a6a3-de2fc76df397-event-3b877ed4-67
 97-43b0-8f65-f6e47ae409ec@termine-e
DTSTART:20270504T153000
DTEND:20270504T000000
CLASS:PUBLIC
DESCRIPTION:mit Pastorin Anna-Katharina Diehl
LOCATION:Seniorenzentrum Weende\, Max-Born- Ring 38\, 37077\, Göttingen
SUMMARY:Gottesdienst
END:VEVENT
BEGIN:VEVENT
DTSTAMP:20260401T082220Z
UID:event-occurrence-273ad7a1-5984-4aee-944c-0dc2e40f53a1-event-3b877ed4-67
 97-43b0-8f65-f6e47ae409ec@termine-e
DTSTART:20270601T153000
DTEND:20270601T000000
CLASS:PUBLIC
DESCRIPTION:mit Pastorin Anna-Katharina Diehl
LOCATION:Seniorenzentrum Weende\, Max-Born- Ring 38\, 37077\, Göttingen
SUMMARY:Gottesdienst
END:VEVENT
BEGIN:VEVENT
DTSTAMP:20260401T082220Z
UID:event-occurrence-ae77b797-556b-41b7-958e-aa2caf72b35f-event-3b877ed4-67
 97-43b0-8f65-f6e47ae409ec@termine-e
DTSTART:20270706T153000
DTEND:20270706T000000
CLASS:PUBLIC
DESCRIPTION:mit Pastorin Anna-Katharina Diehl
LOCATION:Seniorenzentrum Weende\, Max-Born- Ring 38\, 37077\, Göttingen
SUMMARY:Gottesdienst
END:VEVENT
BEGIN:VEVENT
DTSTAMP:20260401T082220Z
UID:event-occurrence-70bacf9d-af1b-4b61-bfcf-61954e9ba6b3-event-3b877ed4-67
 97-43b0-8f65-f6e47ae409ec@termine-e
DTSTART:20270803T153000
DTEND:20270803T000000
CLASS:PUBLIC
DESCRIPTION:mit Pastorin Anna-Katharina Diehl
LOCATION:Seniorenzentrum Weende\, Max-Born- Ring 38\, 37077\, Göttingen
SUMMARY:Gottesdienst
END:VEVENT
BEGIN:VEVENT
DTSTAMP:20260401T082220Z
UID:event-occurrence-85ae1e58-a7b3-41b0-b0c3-8f39ed711698-event-3b877ed4-67
 97-43b0-8f65-f6e47ae409ec@termine-e
DTSTART:20270907T153000
DTEND:20270907T000000
CLASS:PUBLIC
DESCRIPTION:mit Pastorin Anna-Katharina Diehl
LOCATION:Seniorenzentrum Weende\, Max-Born- Ring 38\, 37077\, Göttingen
SUMMARY:Gottesdienst
END:VEVENT
BEGIN:VEVENT
DTSTAMP:20260401T082220Z
UID:event-occurrence-94bd443e-d24f-43a5-91c2-2b3dbf623e99-event-3b877ed4-67
 97-43b0-8f65-f6e47ae409ec@termine-e
DTSTART:20271005T153000
DTEND:20271005T000000
CLASS:PUBLIC
DESCRIPTION:mit Pastorin Anna-Katharina Diehl
LOCATION:Seniorenzentrum Weende\, Max-Born- Ring 38\, 37077\, Göttingen
SUMMARY:Gottesdienst
END:VEVENT
BEGIN:VEVENT
DTSTAMP:20260401T082220Z
UID:event-occurrence-330f1921-123b-4868-988e-d51d4ceb1a95-event-3b877ed4-67
 97-43b0-8f65-f6e47ae409ec@termine-e
DTSTART:20271102T153000
DTEND:20271102T000000
CLASS:PUBLIC
DESCRIPTION:mit Pastorin Anna-Katharina Diehl
LOCATION:Seniorenzentrum Weende\, Max-Born- Ring 38\, 37077\, Göttingen
SUMMARY:Gottesdienst
END:VEVENT
BEGIN:VEVENT
DTSTAMP:20260401T082220Z
UID:event-occurrence-9c5d9dca-1657-45cb-9c14-ed0236088882-event-3b877ed4-67
 97-43b0-8f65-f6e47ae409ec@termine-e
DTSTART:20271207T153000
DTEND:20271207T000000
CLASS:PUBLIC
DESCRIPTION:mit Pastorin Anna-Katharina Diehl
LOCATION:Seniorenzentrum Weende\, Max-Born- Ring 38\, 37077\, Göttingen
SUMMARY:Gottesdienst
END:VEVENT
BEGIN:VEVENT
DTSTAMP:20260401T082220Z
UID:event-occurrence-891699f5-e090-4101-b1f1-a378d161a100-event-3b877ed4-67
 97-43b0-8f65-f6e47ae409ec@termine-e
DTSTART:20280104T153000
DTEND:20280104T000000
CLASS:PUBLIC
DESCRIPTION:mit Pastorin Anna-Katharina Diehl
LOCATION:Seniorenzentrum Weende\, Max-Born- Ring 38\, 37077\, Göttingen
SUMMARY:Gottesdienst
END:VEVENT
BEGIN:VEVENT
DTSTAMP:20260401T082220Z
UID:event-occurrence-0cd179fd-e098-4fe1-9b14-f89f5f10ed7e-event-3b877ed4-67
 97-43b0-8f65-f6e47ae409ec@termine-e
DTSTART:20280201T153000
DTEND:20280201T000000
CLASS:PUBLIC
DESCRIPTION:mit Pastorin Anna-Katharina Diehl
LOCATION:Seniorenzentrum Weende\, Max-Born- Ring 38\, 37077\, Göttingen
SUMMARY:Gottesdienst
END:VEVENT
BEGIN:VEVENT
DTSTAMP:20260401T082220Z
UID:event-occurrence-06c320e0-b1a8-44f5-a440-54692dcccf55-event-3b877ed4-67
 97-43b0-8f65-f6e47ae409ec@termine-e
DTSTART:20280307T153000
DTEND:20280307T000000
CLASS:PUBLIC
DESCRIPTION:mit Pastorin Anna-Katharina Diehl
LOCATION:Seniorenzentrum Weende\, Max-Born- Ring 38\, 37077\, Göttingen
SUMMARY:Gottesdienst
END:VEVENT
BEGIN:VEVENT
DTSTAMP:20260401T082220Z
UID:event-occurrence-37db3dd1-dfb1-4c8d-9696-8221ec2daf15-event-3b877ed4-67
 97-43b0-8f65-f6e47ae409ec@termine-e
DTSTART:20280404T153000
DTEND:20280404T000000
CLASS:PUBLIC
DESCRIPTION:mit Pastorin Anna-Katharina Diehl
LOCATION:Seniorenzentrum Weende\, Max-Born- Ring 38\, 37077\, Göttingen
SUMMARY:Gottesdienst
END:VEVENT
BEGIN:VEVENT
DTSTAMP:20260401T082220Z
UID:event-occurrence-7a534d90-b5f4-4fa6-81e3-d23fc8a9f8cd-event-3b877ed4-67
 97-43b0-8f65-f6e47ae409ec@termine-e
DTSTART:20280502T153000
DTEND:20280502T000000
CLASS:PUBLIC
DESCRIPTION:mit Pastorin Anna-Katharina Diehl
LOCATION:Seniorenzentrum Weende\, Max-Born- Ring 38\, 37077\, Göttingen
SUMMARY:Gottesdienst
END:VEVENT
BEGIN:VEVENT
DTSTAMP:20260401T082220Z
UID:event-occurrence-dff15aed-ce0a-4fcf-b030-b712c0c68021-event-3b877ed4-67
 97-43b0-8f65-f6e47ae409ec@termine-e
DTSTART:20280606T153000
DTEND:20280606T000000
CLASS:PUBLIC
DESCRIPTION:mit Pastorin Anna-Katharina Diehl
LOCATION:Seniorenzentrum Weende\, Max-Born- Ring 38\, 37077\, Göttingen
SUMMARY:Gottesdienst
END:VEVENT
BEGIN:VEVENT
DTSTAMP:20260401T082220Z
UID:event-occurrence-e8c1ef22-cff3-4798-83ef-b27c4792b5c6-event-3b877ed4-67
 97-43b0-8f65-f6e47ae409ec@termine-e
DTSTART:20280704T153000
DTEND:20280704T000000
CLASS:PUBLIC
DESCRIPTION:mit Pastorin Anna-Katharina Diehl
LOCATION:Seniorenzentrum Weende\, Max-Born- Ring 38\, 37077\, Göttingen
SUMMARY:Gottesdienst
END:VEVENT
BEGIN:VEVENT
DTSTAMP:20260401T082220Z
UID:event-occurrence-56539d9a-86ee-43e4-91e5-e2e9904f253a-event-3b877ed4-67
 97-43b0-8f65-f6e47ae409ec@termine-e
DTSTART:20280801T153000
DTEND:20280801T000000
CLASS:PUBLIC
DESCRIPTION:mit Pastorin Anna-Katharina Diehl
LOCATION:Seniorenzentrum Weende\, Max-Born- Ring 38\, 37077\, Göttingen
SUMMARY:Gottesdienst
END:VEVENT
BEGIN:VEVENT
DTSTAMP:20260401T082220Z
UID:event-occurrence-8db662d7-756c-4947-ae37-ac2de7d2ab0f-event-3b877ed4-67
 97-43b0-8f65-f6e47ae409ec@termine-e
DTSTART:20280905T153000
DTEND:20280905T000000
CLASS:PUBLIC
DESCRIPTION:mit Pastorin Anna-Katharina Diehl
LOCATION:Seniorenzentrum Weende\, Max-Born- Ring 38\, 37077\, Göttingen
SUMMARY:Gottesdienst
END:VEVENT
BEGIN:VEVENT
DTSTAMP:20260401T082220Z
UID:event-occurrence-e0bf24e2-762e-4b1f-9bf7-dbb9eab016a6-event-3b877ed4-67
 97-43b0-8f65-f6e47ae409ec@termine-e
DTSTART:20281003T153000
DTEND:20281003T000000
CLASS:PUBLIC
DESCRIPTION:mit Pastorin Anna-Katharina Diehl
LOCATION:Seniorenzentrum Weende\, Max-Born- Ring 38\, 37077\, Göttingen
SUMMARY:Gottesdienst
END:VEVENT
BEGIN:VEVENT
DTSTAMP:20260401T082220Z
UID:event-occurrence-d88a0087-a35e-45b4-aa2f-caa74e636e0a-event-3b877ed4-67
 97-43b0-8f65-f6e47ae409ec@termine-e
DTSTART:20281107T153000
DTEND:20281107T000000
CLASS:PUBLIC
DESCRIPTION:mit Pastorin Anna-Katharina Diehl
LOCATION:Seniorenzentrum Weende\, Max-Born- Ring 38\, 37077\, Göttingen
SUMMARY:Gottesdienst
END:VEVENT
BEGIN:VEVENT
DTSTAMP:20260401T082220Z
UID:event-occurrence-65bd6c51-3596-4325-b38a-6fc2a3de9714-event-3b877ed4-67
 97-43b0-8f65-f6e47ae409ec@termine-e
DTSTART:20281205T153000
DTEND:20281205T000000
CLASS:PUBLIC
DESCRIPTION:mit Pastorin Anna-Katharina Diehl
LOCATION:Seniorenzentrum Weende\, Max-Born- Ring 38\, 37077\, Göttingen
SUMMARY:Gottesdienst
END:VEVENT
BEGIN:VEVENT
DTSTAMP:20260401T082220Z
UID:event-occurrence-fb81331e-aa17-455f-8c8d-3a49d4993c1b-event-3b877ed4-67
 97-43b0-8f65-f6e47ae409ec@termine-e
DTSTART:20290102T153000
DTEND:20290102T000000
CLASS:PUBLIC
DESCRIPTION:mit Pastorin Anna-Katharina Diehl
LOCATION:Seniorenzentrum Weende\, Max-Born- Ring 38\, 37077\, Göttingen
SUMMARY:Gottesdienst
END:VEVENT
BEGIN:VEVENT
DTSTAMP:20260401T082220Z
UID:event-occurrence-17da6dcc-7280-4ff0-b16f-6556c7436e1f-event-3b877ed4-67
 97-43b0-8f65-f6e47ae409ec@termine-e
DTSTART:20290206T153000
DTEND:20290206T000000
CLASS:PUBLIC
DESCRIPTION:mit Pastorin Anna-Katharina Diehl
LOCATION:Seniorenzentrum Weende\, Max-Born- Ring 38\, 37077\, Göttingen
SUMMARY:Gottesdienst
END:VEVENT
BEGIN:VEVENT
DTSTAMP:20260401T082220Z
UID:event-occurrence-af37d4d3-5e20-48c7-a0b2-c77512c6554b-event-3b877ed4-67
 97-43b0-8f65-f6e47ae409ec@termine-e
DTSTART:20290306T153000
DTEND:20290306T000000
CLASS:PUBLIC
DESCRIPTION:mit Pastorin Anna-Katharina Diehl
LOCATION:Seniorenzentrum Weende\, Max-Born- Ring 38\, 37077\, Göttingen
SUMMARY:Gottesdienst
END:VEVENT
BEGIN:VEVENT
DTSTAMP:20260401T082220Z
UID:event-occurrence-6c196fa6-16a7-4cec-880a-e898ee0f71f4-event-3b877ed4-67
 97-43b0-8f65-f6e47ae409ec@termine-e
DTSTART:20290403T153000
DTEND:20290403T000000
CLASS:PUBLIC
DESCRIPTION:mit Pastorin Anna-Katharina Diehl
LOCATION:Seniorenzentrum Weende\, Max-Born- Ring 38\, 37077\, Göttingen
SUMMARY:Gottesdienst
END:VEVENT
BEGIN:VEVENT
DTSTAMP:20260401T082220Z
UID:event-occurrence-85b435da-49df-4046-aa54-6d1f55c2ab84-event-3b877ed4-67
 97-43b0-8f65-f6e47ae409ec@termine-e
DTSTART:20290501T153000
DTEND:20290501T000000
CLASS:PUBLIC
DESCRIPTION:mit Pastorin Anna-Katharina Diehl
LOCATION:Seniorenzentrum Weende\, Max-Born- Ring 38\, 37077\, Göttingen
SUMMARY:Gottesdienst
END:VEVENT
BEGIN:VEVENT
DTSTAMP:20260401T082220Z
UID:event-occurrence-45f3abbe-9c2e-4ad6-8e25-6cc15bfbd657-event-3b877ed4-67
 97-43b0-8f65-f6e47ae409ec@termine-e
DTSTART:20290605T153000
DTEND:20290605T000000
CLASS:PUBLIC
DESCRIPTION:mit Pastorin Anna-Katharina Diehl
LOCATION:Seniorenzentrum Weende\, Max-Born- Ring 38\, 37077\, Göttingen
SUMMARY:Gottesdienst
END:VEVENT
BEGIN:VEVENT
DTSTAMP:20260401T082220Z
UID:event-occurrence-685d340f-5733-4a49-beb3-123c32808352-event-3b877ed4-67
 97-43b0-8f65-f6e47ae409ec@termine-e
DTSTART:20290703T153000
DTEND:20290703T000000
CLASS:PUBLIC
DESCRIPTION:mit Pastorin Anna-Katharina Diehl
LOCATION:Seniorenzentrum Weende\, Max-Born- Ring 38\, 37077\, Göttingen
SUMMARY:Gottesdienst
END:VEVENT
BEGIN:VEVENT
DTSTAMP:20260401T082220Z
UID:event-occurrence-97e78e69-dd6b-42a8-bd31-49abf51bbe08-event-3b877ed4-67
 97-43b0-8f65-f6e47ae409ec@termine-e
DTSTART:20290807T153000
DTEND:20290807T000000
CLASS:PUBLIC
DESCRIPTION:mit Pastorin Anna-Katharina Diehl
LOCATION:Seniorenzentrum Weende\, Max-Born- Ring 38\, 37077\, Göttingen
SUMMARY:Gottesdienst
END:VEVENT
BEGIN:VEVENT
DTSTAMP:20260401T082220Z
UID:event-occurrence-7ccc0fa7-492d-409d-a0c7-b37a1edd4808-event-3b877ed4-67
 97-43b0-8f65-f6e47ae409ec@termine-e
DTSTART:20290904T153000
DTEND:20290904T000000
CLASS:PUBLIC
DESCRIPTION:mit Pastorin Anna-Katharina Diehl
LOCATION:Seniorenzentrum Weende\, Max-Born- Ring 38\, 37077\, Göttingen
SUMMARY:Gottesdienst
END:VEVENT
BEGIN:VEVENT
DTSTAMP:20260401T082220Z
UID:event-occurrence-05708539-5c7f-4ee9-b2fb-935dc07a2eff-event-3b877ed4-67
 97-43b0-8f65-f6e47ae409ec@termine-e
DTSTART:20291002T153000
DTEND:20291002T000000
CLASS:PUBLIC
DESCRIPTION:mit Pastorin Anna-Katharina Diehl
LOCATION:Seniorenzentrum Weende\, Max-Born- Ring 38\, 37077\, Göttingen
SUMMARY:Gottesdienst
END:VEVENT
BEGIN:VEVENT
DTSTAMP:20260401T082220Z
UID:event-occurrence-dd1b6fab-bdd9-4ccf-acc8-f8436ba4ec05-event-3b877ed4-67
 97-43b0-8f65-f6e47ae409ec@termine-e
DTSTART:20291106T153000
DTEND:20291106T000000
CLASS:PUBLIC
DESCRIPTION:mit Pastorin Anna-Katharina Diehl
LOCATION:Seniorenzentrum Weende\, Max-Born- Ring 38\, 37077\, Göttingen
SUMMARY:Gottesdienst
END:VEVENT
BEGIN:VEVENT
DTSTAMP:20260401T082220Z
UID:event-occurrence-817cdbe8-45bf-4f27-9691-81c2bd148cf3-event-3b877ed4-67
 97-43b0-8f65-f6e47ae409ec@termine-e
DTSTART:20291204T153000
DTEND:20291204T000000
CLASS:PUBLIC
DESCRIPTION:mit Pastorin Anna-Katharina Diehl
LOCATION:Seniorenzentrum Weende\, Max-Born- Ring 38\, 37077\, Göttingen
SUMMARY:Gottesdienst
END:VEVENT
BEGIN:VEVENT
DTSTAMP:20260401T082220Z
UID:event-occurrence-0824a04d-1aa3-42f8-b57b-301a29a1ff38-event-3b877ed4-67
 97-43b0-8f65-f6e47ae409ec@termine-e
DTSTART:20300101T153000
DTEND:20300101T000000
CLASS:PUBLIC
DESCRIPTION:mit Pastorin Anna-Katharina Diehl
LOCATION:Seniorenzentrum Weende\, Max-Born- Ring 38\, 37077\, Göttingen
SUMMARY:Gottesdienst
END:VEVENT
BEGIN:VEVENT
DTSTAMP:20260401T082220Z
UID:event-occurrence-622ac9af-659c-4092-a514-082c293b1f5b-event-3b877ed4-67
 97-43b0-8f65-f6e47ae409ec@termine-e
DTSTART:20300205T153000
DTEND:20300205T000000
CLASS:PUBLIC
DESCRIPTION:mit Pastorin Anna-Katharina Diehl
LOCATION:Seniorenzentrum Weende\, Max-Born- Ring 38\, 37077\, Göttingen
SUMMARY:Gottesdienst
END:VEVENT
BEGIN:VEVENT
DTSTAMP:20260401T082220Z
UID:event-occurrence-3401da24-205c-4bc0-a943-462cdde1151a-event-3b877ed4-67
 97-43b0-8f65-f6e47ae409ec@termine-e
DTSTART:20300305T153000
DTEND:20300305T000000
CLASS:PUBLIC
DESCRIPTION:mit Pastorin Anna-Katharina Diehl
LOCATION:Seniorenzentrum Weende\, Max-Born- Ring 38\, 37077\, Göttingen
SUMMARY:Gottesdienst
END:VEVENT
BEGIN:VEVENT
DTSTAMP:20260401T082220Z
UID:event-occurrence-a123e4e6-3ab8-4cb0-829b-f962cf0761f2-event-3b877ed4-67
 97-43b0-8f65-f6e47ae409ec@termine-e
DTSTART:20300402T153000
DTEND:20300402T000000
CLASS:PUBLIC
DESCRIPTION:mit Pastorin Anna-Katharina Diehl
LOCATION:Seniorenzentrum Weende\, Max-Born- Ring 38\, 37077\, Göttingen
SUMMARY:Gottesdienst
END:VEVENT
BEGIN:VEVENT
DTSTAMP:20260401T082220Z
UID:event-occurrence-a7931bb9-baa9-4909-9a2e-b95d819a4f5c-event-3b877ed4-67
 97-43b0-8f65-f6e47ae409ec@termine-e
DTSTART:20300507T153000
DTEND:20300507T000000
CLASS:PUBLIC
DESCRIPTION:mit Pastorin Anna-Katharina Diehl
LOCATION:Seniorenzentrum Weende\, Max-Born- Ring 38\, 37077\, Göttingen
SUMMARY:Gottesdienst
END:VEVENT
BEGIN:VEVENT
DTSTAMP:20260401T082220Z
UID:event-occurrence-da875084-a2e4-4ce5-b31e-4011685aad9c-event-3b877ed4-67
 97-43b0-8f65-f6e47ae409ec@termine-e
DTSTART:20300604T153000
DTEND:20300604T000000
CLASS:PUBLIC
DESCRIPTION:mit Pastorin Anna-Katharina Diehl
LOCATION:Seniorenzentrum Weende\, Max-Born- Ring 38\, 37077\, Göttingen
SUMMARY:Gottesdienst
END:VEVENT
BEGIN:VEVENT
DTSTAMP:20260401T082220Z
UID:event-occurrence-9200075b-09b1-4b0a-96cb-c6446c5ebfc7-event-3b877ed4-67
 97-43b0-8f65-f6e47ae409ec@termine-e
DTSTART:20300702T153000
DTEND:20300702T000000
CLASS:PUBLIC
DESCRIPTION:mit Pastorin Anna-Katharina Diehl
LOCATION:Seniorenzentrum Weende\, Max-Born- Ring 38\, 37077\, Göttingen
SUMMARY:Gottesdienst
END:VEVENT
END:VCALENDAR
