BEGIN:VCALENDAR
VERSION:2.0
PRODID:icalendar-ruby
CALSCALE:GREGORIAN
BEGIN:VEVENT
DTSTAMP:20260420T115036Z
UID:event-occurrence-279401ce-3b48-437e-88d9-9c80ac770364-event-3a5cc674-f7
 d7-4ea0-869c-24107a9559f2@termine-e
DTSTART:20260607T110000
DTEND:20260607T000000
CLASS:PUBLIC
LOCATION:Emmaus Kirche\, St.Willehadusweg\, 27711\, Pennigbüttel
SUMMARY:Gottesdienst
END:VEVENT
END:VCALENDAR
