BEGIN:VCALENDAR
VERSION:2.0
PRODID:icalendar-ruby
CALSCALE:GREGORIAN
BEGIN:VEVENT
DTSTAMP:20260309T092805Z
UID:event-occurrence-9835a84a-ce83-4aa4-8777-033723a7bdf2-event-3a5b48fa-3e
 a2-48dd-9e60-37f886ba0c09@termine-e
DTSTART:20260405T100000
DTEND:20260405T000000
CLASS:PUBLIC
LOCATION:St. Bartholomäus Kirche Dornum\, 26553\, Dornum
SUMMARY:Gottesdienst mit Abendmahl mit Pastor Schneider
END:VEVENT
END:VCALENDAR
