BEGIN:VCALENDAR
VERSION:2.0
PRODID:icalendar-ruby
CALSCALE:GREGORIAN
BEGIN:VEVENT
DTSTAMP:20260412T192251Z
UID:event-occurrence-91730bee-d672-448c-a759-7277b1658ef5-event-388d4a22-f8
 13-4aaf-ba34-7a96ed8dd5ef@termine-e
DTSTART:20260705T103000
DTEND:20260705T000000
CLASS:PUBLIC
DESCRIPTION:Diakonin TaubitzMusik: Oesdorfer Posaunenchor
LOCATION:Dülms Hof\, Meintetalstraße 10\, 31812\, Bad Pyrmont
SUMMARY:Gottesdienst I Sommerkirche
END:VEVENT
END:VCALENDAR
