BEGIN:VCALENDAR
VERSION:2.0
PRODID:icalendar-ruby
CALSCALE:GREGORIAN
BEGIN:VEVENT
DTSTAMP:20260324T180025Z
UID:event-occurrence-ef481051-2ed4-4712-b353-cc4bc6b6d9c1-event-3886d5e3-d8
 59-4513-9143-eb757527d273@termine-e
DTSTART:20260514T110000
DTEND:20260514T000000
CLASS:PUBLIC
DESCRIPTION:mit Pastor Ernst
LOCATION:Schwarzer See\, 30823\, Berenbostel
SUMMARY:Ökumenischer Gottesdienst
END:VEVENT
END:VCALENDAR
