BEGIN:VCALENDAR
VERSION:2.0
PRODID:icalendar-ruby
CALSCALE:GREGORIAN
BEGIN:VEVENT
DTSTAMP:20260329T141058Z
UID:event-occurrence-5ab3d9b2-5099-4250-aa12-62a2efd295fb-event-3850e4b2-54
 0d-4596-b037-ea58b98ca4e8@termine-e
DTSTART:20260401T200000
DTEND:20260401T220000
CLASS:PUBLIC
DESCRIPTION:Der Gospelchor ThoMoRo Voices sucht Nachwuchs! Interessierte S
 ängerInnen für Sopran\, Alt\, Tenor und Bass sind herzlich willkommen. N
 otenkenntnisse sind von Vorteil\, aber keine Voraussetzung.Probe ist jeden
  Mittwoch von 20 bis 22 Uhr in der Thomas-Morus-Kirche in der Deisterstra
 ße in Ronnenberg.Silvia Relja für ThoMoRo Voices
LOCATION:St. Thomas Morus-Kirche\, Deisterstraße\, 30952\, Ronnenberg
SUMMARY:ThoMoRo Voices (offene Probe)
END:VEVENT
BEGIN:VEVENT
DTSTAMP:20260329T141058Z
UID:event-occurrence-6e89f56c-f5bb-48ff-8fdc-ef253ec3eab1-event-3850e4b2-54
 0d-4596-b037-ea58b98ca4e8@termine-e
DTSTART:20260408T200000
DTEND:20260408T220000
CLASS:PUBLIC
DESCRIPTION:Der Gospelchor ThoMoRo Voices sucht Nachwuchs! Interessierte S
 ängerInnen für Sopran\, Alt\, Tenor und Bass sind herzlich willkommen. N
 otenkenntnisse sind von Vorteil\, aber keine Voraussetzung.Probe ist jeden
  Mittwoch von 20 bis 22 Uhr in der Thomas-Morus-Kirche in der Deisterstra
 ße in Ronnenberg.Silvia Relja für ThoMoRo Voices
LOCATION:St. Thomas Morus-Kirche\, Deisterstraße\, 30952\, Ronnenberg
SUMMARY:ThoMoRo Voices (offene Probe)
END:VEVENT
BEGIN:VEVENT
DTSTAMP:20260329T141058Z
UID:event-occurrence-feed5328-47e5-4cd2-9e20-1787a5e80b00-event-3850e4b2-54
 0d-4596-b037-ea58b98ca4e8@termine-e
DTSTART:20260415T200000
DTEND:20260415T220000
CLASS:PUBLIC
DESCRIPTION:Der Gospelchor ThoMoRo Voices sucht Nachwuchs! Interessierte S
 ängerInnen für Sopran\, Alt\, Tenor und Bass sind herzlich willkommen. N
 otenkenntnisse sind von Vorteil\, aber keine Voraussetzung.Probe ist jeden
  Mittwoch von 20 bis 22 Uhr in der Thomas-Morus-Kirche in der Deisterstra
 ße in Ronnenberg.Silvia Relja für ThoMoRo Voices
LOCATION:St. Thomas Morus-Kirche\, Deisterstraße\, 30952\, Ronnenberg
SUMMARY:ThoMoRo Voices (offene Probe)
END:VEVENT
BEGIN:VEVENT
DTSTAMP:20260329T141058Z
UID:event-occurrence-bf9c8677-5958-4b2a-9a25-e64939ace9f4-event-3850e4b2-54
 0d-4596-b037-ea58b98ca4e8@termine-e
DTSTART:20260422T200000
DTEND:20260422T220000
CLASS:PUBLIC
DESCRIPTION:Der Gospelchor ThoMoRo Voices sucht Nachwuchs! Interessierte S
 ängerInnen für Sopran\, Alt\, Tenor und Bass sind herzlich willkommen. N
 otenkenntnisse sind von Vorteil\, aber keine Voraussetzung.Probe ist jeden
  Mittwoch von 20 bis 22 Uhr in der Thomas-Morus-Kirche in der Deisterstra
 ße in Ronnenberg.Silvia Relja für ThoMoRo Voices
LOCATION:St. Thomas Morus-Kirche\, Deisterstraße\, 30952\, Ronnenberg
SUMMARY:ThoMoRo Voices (offene Probe)
END:VEVENT
BEGIN:VEVENT
DTSTAMP:20260329T141058Z
UID:event-occurrence-961f07e8-2665-4c3e-820a-3d7272b8beaa-event-3850e4b2-54
 0d-4596-b037-ea58b98ca4e8@termine-e
DTSTART:20260429T200000
DTEND:20260429T220000
CLASS:PUBLIC
DESCRIPTION:Der Gospelchor ThoMoRo Voices sucht Nachwuchs! Interessierte S
 ängerInnen für Sopran\, Alt\, Tenor und Bass sind herzlich willkommen. N
 otenkenntnisse sind von Vorteil\, aber keine Voraussetzung.Probe ist jeden
  Mittwoch von 20 bis 22 Uhr in der Thomas-Morus-Kirche in der Deisterstra
 ße in Ronnenberg.Silvia Relja für ThoMoRo Voices
LOCATION:St. Thomas Morus-Kirche\, Deisterstraße\, 30952\, Ronnenberg
SUMMARY:ThoMoRo Voices (offene Probe)
END:VEVENT
BEGIN:VEVENT
DTSTAMP:20260329T141058Z
UID:event-occurrence-25b9c371-af51-4f6f-b9b1-4392676b45fd-event-3850e4b2-54
 0d-4596-b037-ea58b98ca4e8@termine-e
DTSTART:20260506T200000
DTEND:20260506T220000
CLASS:PUBLIC
DESCRIPTION:Der Gospelchor ThoMoRo Voices sucht Nachwuchs! Interessierte S
 ängerInnen für Sopran\, Alt\, Tenor und Bass sind herzlich willkommen. N
 otenkenntnisse sind von Vorteil\, aber keine Voraussetzung.Probe ist jeden
  Mittwoch von 20 bis 22 Uhr in der Thomas-Morus-Kirche in der Deisterstra
 ße in Ronnenberg.Silvia Relja für ThoMoRo Voices
LOCATION:St. Thomas Morus-Kirche\, Deisterstraße\, 30952\, Ronnenberg
SUMMARY:ThoMoRo Voices (offene Probe)
END:VEVENT
BEGIN:VEVENT
DTSTAMP:20260329T141058Z
UID:event-occurrence-b33c7aea-f72b-4642-850e-a627f9fdc2ca-event-3850e4b2-54
 0d-4596-b037-ea58b98ca4e8@termine-e
DTSTART:20260513T200000
DTEND:20260513T220000
CLASS:PUBLIC
DESCRIPTION:Der Gospelchor ThoMoRo Voices sucht Nachwuchs! Interessierte S
 ängerInnen für Sopran\, Alt\, Tenor und Bass sind herzlich willkommen. N
 otenkenntnisse sind von Vorteil\, aber keine Voraussetzung.Probe ist jeden
  Mittwoch von 20 bis 22 Uhr in der Thomas-Morus-Kirche in der Deisterstra
 ße in Ronnenberg.Silvia Relja für ThoMoRo Voices
LOCATION:St. Thomas Morus-Kirche\, Deisterstraße\, 30952\, Ronnenberg
SUMMARY:ThoMoRo Voices (offene Probe)
END:VEVENT
BEGIN:VEVENT
DTSTAMP:20260329T141058Z
UID:event-occurrence-7c28686c-6763-40db-b04e-aa7ac0995236-event-3850e4b2-54
 0d-4596-b037-ea58b98ca4e8@termine-e
DTSTART:20260520T200000
DTEND:20260520T220000
CLASS:PUBLIC
DESCRIPTION:Der Gospelchor ThoMoRo Voices sucht Nachwuchs! Interessierte S
 ängerInnen für Sopran\, Alt\, Tenor und Bass sind herzlich willkommen. N
 otenkenntnisse sind von Vorteil\, aber keine Voraussetzung.Probe ist jeden
  Mittwoch von 20 bis 22 Uhr in der Thomas-Morus-Kirche in der Deisterstra
 ße in Ronnenberg.Silvia Relja für ThoMoRo Voices
LOCATION:St. Thomas Morus-Kirche\, Deisterstraße\, 30952\, Ronnenberg
SUMMARY:ThoMoRo Voices (offene Probe)
END:VEVENT
BEGIN:VEVENT
DTSTAMP:20260329T141058Z
UID:event-occurrence-68c04a17-6bef-460c-98fe-6897516a3bd3-event-3850e4b2-54
 0d-4596-b037-ea58b98ca4e8@termine-e
DTSTART:20260527T200000
DTEND:20260527T220000
CLASS:PUBLIC
DESCRIPTION:Der Gospelchor ThoMoRo Voices sucht Nachwuchs! Interessierte S
 ängerInnen für Sopran\, Alt\, Tenor und Bass sind herzlich willkommen. N
 otenkenntnisse sind von Vorteil\, aber keine Voraussetzung.Probe ist jeden
  Mittwoch von 20 bis 22 Uhr in der Thomas-Morus-Kirche in der Deisterstra
 ße in Ronnenberg.Silvia Relja für ThoMoRo Voices
LOCATION:St. Thomas Morus-Kirche\, Deisterstraße\, 30952\, Ronnenberg
SUMMARY:ThoMoRo Voices (offene Probe)
END:VEVENT
BEGIN:VEVENT
DTSTAMP:20260329T141058Z
UID:event-occurrence-92145170-1a3c-4d64-8e12-6d04feaa352a-event-3850e4b2-54
 0d-4596-b037-ea58b98ca4e8@termine-e
DTSTART:20260603T200000
DTEND:20260603T220000
CLASS:PUBLIC
DESCRIPTION:Der Gospelchor ThoMoRo Voices sucht Nachwuchs! Interessierte S
 ängerInnen für Sopran\, Alt\, Tenor und Bass sind herzlich willkommen. N
 otenkenntnisse sind von Vorteil\, aber keine Voraussetzung.Probe ist jeden
  Mittwoch von 20 bis 22 Uhr in der Thomas-Morus-Kirche in der Deisterstra
 ße in Ronnenberg.Silvia Relja für ThoMoRo Voices
LOCATION:St. Thomas Morus-Kirche\, Deisterstraße\, 30952\, Ronnenberg
SUMMARY:ThoMoRo Voices (offene Probe)
END:VEVENT
BEGIN:VEVENT
DTSTAMP:20260329T141058Z
UID:event-occurrence-d1b14110-bcf4-4902-be3f-b5b7699621b2-event-3850e4b2-54
 0d-4596-b037-ea58b98ca4e8@termine-e
DTSTART:20260610T200000
DTEND:20260610T220000
CLASS:PUBLIC
DESCRIPTION:Der Gospelchor ThoMoRo Voices sucht Nachwuchs! Interessierte S
 ängerInnen für Sopran\, Alt\, Tenor und Bass sind herzlich willkommen. N
 otenkenntnisse sind von Vorteil\, aber keine Voraussetzung.Probe ist jeden
  Mittwoch von 20 bis 22 Uhr in der Thomas-Morus-Kirche in der Deisterstra
 ße in Ronnenberg.Silvia Relja für ThoMoRo Voices
LOCATION:St. Thomas Morus-Kirche\, Deisterstraße\, 30952\, Ronnenberg
SUMMARY:ThoMoRo Voices (offene Probe)
END:VEVENT
BEGIN:VEVENT
DTSTAMP:20260329T141058Z
UID:event-occurrence-c839536b-6469-4a9b-9251-b6c2ddc0bc37-event-3850e4b2-54
 0d-4596-b037-ea58b98ca4e8@termine-e
DTSTART:20260617T200000
DTEND:20260617T220000
CLASS:PUBLIC
DESCRIPTION:Der Gospelchor ThoMoRo Voices sucht Nachwuchs! Interessierte S
 ängerInnen für Sopran\, Alt\, Tenor und Bass sind herzlich willkommen. N
 otenkenntnisse sind von Vorteil\, aber keine Voraussetzung.Probe ist jeden
  Mittwoch von 20 bis 22 Uhr in der Thomas-Morus-Kirche in der Deisterstra
 ße in Ronnenberg.Silvia Relja für ThoMoRo Voices
LOCATION:St. Thomas Morus-Kirche\, Deisterstraße\, 30952\, Ronnenberg
SUMMARY:ThoMoRo Voices (offene Probe)
END:VEVENT
BEGIN:VEVENT
DTSTAMP:20260329T141058Z
UID:event-occurrence-305cbac9-b018-4784-90d1-61fa912e84a0-event-3850e4b2-54
 0d-4596-b037-ea58b98ca4e8@termine-e
DTSTART:20260624T200000
DTEND:20260624T220000
CLASS:PUBLIC
DESCRIPTION:Der Gospelchor ThoMoRo Voices sucht Nachwuchs! Interessierte S
 ängerInnen für Sopran\, Alt\, Tenor und Bass sind herzlich willkommen. N
 otenkenntnisse sind von Vorteil\, aber keine Voraussetzung.Probe ist jeden
  Mittwoch von 20 bis 22 Uhr in der Thomas-Morus-Kirche in der Deisterstra
 ße in Ronnenberg.Silvia Relja für ThoMoRo Voices
LOCATION:St. Thomas Morus-Kirche\, Deisterstraße\, 30952\, Ronnenberg
SUMMARY:ThoMoRo Voices (offene Probe)
END:VEVENT
BEGIN:VEVENT
DTSTAMP:20260329T141058Z
UID:event-occurrence-f2ed88cb-897c-449e-a19f-8afe0a015259-event-3850e4b2-54
 0d-4596-b037-ea58b98ca4e8@termine-e
DTSTART:20260701T200000
DTEND:20260701T220000
CLASS:PUBLIC
DESCRIPTION:Der Gospelchor ThoMoRo Voices sucht Nachwuchs! Interessierte S
 ängerInnen für Sopran\, Alt\, Tenor und Bass sind herzlich willkommen. N
 otenkenntnisse sind von Vorteil\, aber keine Voraussetzung.Probe ist jeden
  Mittwoch von 20 bis 22 Uhr in der Thomas-Morus-Kirche in der Deisterstra
 ße in Ronnenberg.Silvia Relja für ThoMoRo Voices
LOCATION:St. Thomas Morus-Kirche\, Deisterstraße\, 30952\, Ronnenberg
SUMMARY:ThoMoRo Voices (offene Probe)
END:VEVENT
BEGIN:VEVENT
DTSTAMP:20260329T141058Z
UID:event-occurrence-298e8ae7-7557-4e75-84f2-51456ee8e9df-event-3850e4b2-54
 0d-4596-b037-ea58b98ca4e8@termine-e
DTSTART:20260708T200000
DTEND:20260708T220000
CLASS:PUBLIC
DESCRIPTION:Der Gospelchor ThoMoRo Voices sucht Nachwuchs! Interessierte S
 ängerInnen für Sopran\, Alt\, Tenor und Bass sind herzlich willkommen. N
 otenkenntnisse sind von Vorteil\, aber keine Voraussetzung.Probe ist jeden
  Mittwoch von 20 bis 22 Uhr in der Thomas-Morus-Kirche in der Deisterstra
 ße in Ronnenberg.Silvia Relja für ThoMoRo Voices
LOCATION:St. Thomas Morus-Kirche\, Deisterstraße\, 30952\, Ronnenberg
SUMMARY:ThoMoRo Voices (offene Probe)
END:VEVENT
BEGIN:VEVENT
DTSTAMP:20260329T141058Z
UID:event-occurrence-57518e54-e4e8-4159-8921-b0dfba6857f7-event-3850e4b2-54
 0d-4596-b037-ea58b98ca4e8@termine-e
DTSTART:20260715T200000
DTEND:20260715T220000
CLASS:PUBLIC
DESCRIPTION:Der Gospelchor ThoMoRo Voices sucht Nachwuchs! Interessierte S
 ängerInnen für Sopran\, Alt\, Tenor und Bass sind herzlich willkommen. N
 otenkenntnisse sind von Vorteil\, aber keine Voraussetzung.Probe ist jeden
  Mittwoch von 20 bis 22 Uhr in der Thomas-Morus-Kirche in der Deisterstra
 ße in Ronnenberg.Silvia Relja für ThoMoRo Voices
LOCATION:St. Thomas Morus-Kirche\, Deisterstraße\, 30952\, Ronnenberg
SUMMARY:ThoMoRo Voices (offene Probe)
END:VEVENT
BEGIN:VEVENT
DTSTAMP:20260329T141058Z
UID:event-occurrence-6c591c26-a670-4a1b-b04c-7a6227091447-event-3850e4b2-54
 0d-4596-b037-ea58b98ca4e8@termine-e
DTSTART:20260722T200000
DTEND:20260722T220000
CLASS:PUBLIC
DESCRIPTION:Der Gospelchor ThoMoRo Voices sucht Nachwuchs! Interessierte S
 ängerInnen für Sopran\, Alt\, Tenor und Bass sind herzlich willkommen. N
 otenkenntnisse sind von Vorteil\, aber keine Voraussetzung.Probe ist jeden
  Mittwoch von 20 bis 22 Uhr in der Thomas-Morus-Kirche in der Deisterstra
 ße in Ronnenberg.Silvia Relja für ThoMoRo Voices
LOCATION:St. Thomas Morus-Kirche\, Deisterstraße\, 30952\, Ronnenberg
SUMMARY:ThoMoRo Voices (offene Probe)
END:VEVENT
BEGIN:VEVENT
DTSTAMP:20260329T141058Z
UID:event-occurrence-50f5b40f-ecb3-489d-bd25-e47176062382-event-3850e4b2-54
 0d-4596-b037-ea58b98ca4e8@termine-e
DTSTART:20260729T200000
DTEND:20260729T220000
CLASS:PUBLIC
DESCRIPTION:Der Gospelchor ThoMoRo Voices sucht Nachwuchs! Interessierte S
 ängerInnen für Sopran\, Alt\, Tenor und Bass sind herzlich willkommen. N
 otenkenntnisse sind von Vorteil\, aber keine Voraussetzung.Probe ist jeden
  Mittwoch von 20 bis 22 Uhr in der Thomas-Morus-Kirche in der Deisterstra
 ße in Ronnenberg.Silvia Relja für ThoMoRo Voices
LOCATION:St. Thomas Morus-Kirche\, Deisterstraße\, 30952\, Ronnenberg
SUMMARY:ThoMoRo Voices (offene Probe)
END:VEVENT
BEGIN:VEVENT
DTSTAMP:20260329T141059Z
UID:event-occurrence-02fcea09-85e4-4b53-b82e-9fa3addb2f81-event-3850e4b2-54
 0d-4596-b037-ea58b98ca4e8@termine-e
DTSTART:20260805T200000
DTEND:20260805T220000
CLASS:PUBLIC
DESCRIPTION:Der Gospelchor ThoMoRo Voices sucht Nachwuchs! Interessierte S
 ängerInnen für Sopran\, Alt\, Tenor und Bass sind herzlich willkommen. N
 otenkenntnisse sind von Vorteil\, aber keine Voraussetzung.Probe ist jeden
  Mittwoch von 20 bis 22 Uhr in der Thomas-Morus-Kirche in der Deisterstra
 ße in Ronnenberg.Silvia Relja für ThoMoRo Voices
LOCATION:St. Thomas Morus-Kirche\, Deisterstraße\, 30952\, Ronnenberg
SUMMARY:ThoMoRo Voices (offene Probe)
END:VEVENT
BEGIN:VEVENT
DTSTAMP:20260329T141059Z
UID:event-occurrence-888614c1-c18f-405b-9e6c-378e5c3ce7b6-event-3850e4b2-54
 0d-4596-b037-ea58b98ca4e8@termine-e
DTSTART:20260812T200000
DTEND:20260812T220000
CLASS:PUBLIC
DESCRIPTION:Der Gospelchor ThoMoRo Voices sucht Nachwuchs! Interessierte S
 ängerInnen für Sopran\, Alt\, Tenor und Bass sind herzlich willkommen. N
 otenkenntnisse sind von Vorteil\, aber keine Voraussetzung.Probe ist jeden
  Mittwoch von 20 bis 22 Uhr in der Thomas-Morus-Kirche in der Deisterstra
 ße in Ronnenberg.Silvia Relja für ThoMoRo Voices
LOCATION:St. Thomas Morus-Kirche\, Deisterstraße\, 30952\, Ronnenberg
SUMMARY:ThoMoRo Voices (offene Probe)
END:VEVENT
BEGIN:VEVENT
DTSTAMP:20260329T141059Z
UID:event-occurrence-8ffed12c-1584-4ae4-a531-6aa5a70f82e9-event-3850e4b2-54
 0d-4596-b037-ea58b98ca4e8@termine-e
DTSTART:20260819T200000
DTEND:20260819T220000
CLASS:PUBLIC
DESCRIPTION:Der Gospelchor ThoMoRo Voices sucht Nachwuchs! Interessierte S
 ängerInnen für Sopran\, Alt\, Tenor und Bass sind herzlich willkommen. N
 otenkenntnisse sind von Vorteil\, aber keine Voraussetzung.Probe ist jeden
  Mittwoch von 20 bis 22 Uhr in der Thomas-Morus-Kirche in der Deisterstra
 ße in Ronnenberg.Silvia Relja für ThoMoRo Voices
LOCATION:St. Thomas Morus-Kirche\, Deisterstraße\, 30952\, Ronnenberg
SUMMARY:ThoMoRo Voices (offene Probe)
END:VEVENT
BEGIN:VEVENT
DTSTAMP:20260329T141059Z
UID:event-occurrence-36343147-4645-41f7-8bcd-9ed952844b68-event-3850e4b2-54
 0d-4596-b037-ea58b98ca4e8@termine-e
DTSTART:20260826T200000
DTEND:20260826T220000
CLASS:PUBLIC
DESCRIPTION:Der Gospelchor ThoMoRo Voices sucht Nachwuchs! Interessierte S
 ängerInnen für Sopran\, Alt\, Tenor und Bass sind herzlich willkommen. N
 otenkenntnisse sind von Vorteil\, aber keine Voraussetzung.Probe ist jeden
  Mittwoch von 20 bis 22 Uhr in der Thomas-Morus-Kirche in der Deisterstra
 ße in Ronnenberg.Silvia Relja für ThoMoRo Voices
LOCATION:St. Thomas Morus-Kirche\, Deisterstraße\, 30952\, Ronnenberg
SUMMARY:ThoMoRo Voices (offene Probe)
END:VEVENT
BEGIN:VEVENT
DTSTAMP:20260329T141059Z
UID:event-occurrence-3de9c601-ec02-4726-ba10-2fb2600d7d01-event-3850e4b2-54
 0d-4596-b037-ea58b98ca4e8@termine-e
DTSTART:20260902T200000
DTEND:20260902T220000
CLASS:PUBLIC
DESCRIPTION:Der Gospelchor ThoMoRo Voices sucht Nachwuchs! Interessierte S
 ängerInnen für Sopran\, Alt\, Tenor und Bass sind herzlich willkommen. N
 otenkenntnisse sind von Vorteil\, aber keine Voraussetzung.Probe ist jeden
  Mittwoch von 20 bis 22 Uhr in der Thomas-Morus-Kirche in der Deisterstra
 ße in Ronnenberg.Silvia Relja für ThoMoRo Voices
LOCATION:St. Thomas Morus-Kirche\, Deisterstraße\, 30952\, Ronnenberg
SUMMARY:ThoMoRo Voices (offene Probe)
END:VEVENT
BEGIN:VEVENT
DTSTAMP:20260329T141059Z
UID:event-occurrence-ca5d47dd-8a4a-4786-a95a-803dc986fa54-event-3850e4b2-54
 0d-4596-b037-ea58b98ca4e8@termine-e
DTSTART:20260909T200000
DTEND:20260909T220000
CLASS:PUBLIC
DESCRIPTION:Der Gospelchor ThoMoRo Voices sucht Nachwuchs! Interessierte S
 ängerInnen für Sopran\, Alt\, Tenor und Bass sind herzlich willkommen. N
 otenkenntnisse sind von Vorteil\, aber keine Voraussetzung.Probe ist jeden
  Mittwoch von 20 bis 22 Uhr in der Thomas-Morus-Kirche in der Deisterstra
 ße in Ronnenberg.Silvia Relja für ThoMoRo Voices
LOCATION:St. Thomas Morus-Kirche\, Deisterstraße\, 30952\, Ronnenberg
SUMMARY:ThoMoRo Voices (offene Probe)
END:VEVENT
BEGIN:VEVENT
DTSTAMP:20260329T141059Z
UID:event-occurrence-27b98c22-82e5-4080-a2ea-b95158fb2c0b-event-3850e4b2-54
 0d-4596-b037-ea58b98ca4e8@termine-e
DTSTART:20260916T200000
DTEND:20260916T220000
CLASS:PUBLIC
DESCRIPTION:Der Gospelchor ThoMoRo Voices sucht Nachwuchs! Interessierte S
 ängerInnen für Sopran\, Alt\, Tenor und Bass sind herzlich willkommen. N
 otenkenntnisse sind von Vorteil\, aber keine Voraussetzung.Probe ist jeden
  Mittwoch von 20 bis 22 Uhr in der Thomas-Morus-Kirche in der Deisterstra
 ße in Ronnenberg.Silvia Relja für ThoMoRo Voices
LOCATION:St. Thomas Morus-Kirche\, Deisterstraße\, 30952\, Ronnenberg
SUMMARY:ThoMoRo Voices (offene Probe)
END:VEVENT
BEGIN:VEVENT
DTSTAMP:20260329T141059Z
UID:event-occurrence-9fe6a6b9-ac16-4454-8ad5-7f7693182bcd-event-3850e4b2-54
 0d-4596-b037-ea58b98ca4e8@termine-e
DTSTART:20260923T200000
DTEND:20260923T220000
CLASS:PUBLIC
DESCRIPTION:Der Gospelchor ThoMoRo Voices sucht Nachwuchs! Interessierte S
 ängerInnen für Sopran\, Alt\, Tenor und Bass sind herzlich willkommen. N
 otenkenntnisse sind von Vorteil\, aber keine Voraussetzung.Probe ist jeden
  Mittwoch von 20 bis 22 Uhr in der Thomas-Morus-Kirche in der Deisterstra
 ße in Ronnenberg.Silvia Relja für ThoMoRo Voices
LOCATION:St. Thomas Morus-Kirche\, Deisterstraße\, 30952\, Ronnenberg
SUMMARY:ThoMoRo Voices (offene Probe)
END:VEVENT
BEGIN:VEVENT
DTSTAMP:20260329T141059Z
UID:event-occurrence-912d1255-e397-477d-a4a3-b41bef21dff4-event-3850e4b2-54
 0d-4596-b037-ea58b98ca4e8@termine-e
DTSTART:20260930T200000
DTEND:20260930T220000
CLASS:PUBLIC
DESCRIPTION:Der Gospelchor ThoMoRo Voices sucht Nachwuchs! Interessierte S
 ängerInnen für Sopran\, Alt\, Tenor und Bass sind herzlich willkommen. N
 otenkenntnisse sind von Vorteil\, aber keine Voraussetzung.Probe ist jeden
  Mittwoch von 20 bis 22 Uhr in der Thomas-Morus-Kirche in der Deisterstra
 ße in Ronnenberg.Silvia Relja für ThoMoRo Voices
LOCATION:St. Thomas Morus-Kirche\, Deisterstraße\, 30952\, Ronnenberg
SUMMARY:ThoMoRo Voices (offene Probe)
END:VEVENT
BEGIN:VEVENT
DTSTAMP:20260329T141059Z
UID:event-occurrence-934076cc-9ca3-4d9f-b877-a5b6dd1cb9b2-event-3850e4b2-54
 0d-4596-b037-ea58b98ca4e8@termine-e
DTSTART:20261007T200000
DTEND:20261007T220000
CLASS:PUBLIC
DESCRIPTION:Der Gospelchor ThoMoRo Voices sucht Nachwuchs! Interessierte S
 ängerInnen für Sopran\, Alt\, Tenor und Bass sind herzlich willkommen. N
 otenkenntnisse sind von Vorteil\, aber keine Voraussetzung.Probe ist jeden
  Mittwoch von 20 bis 22 Uhr in der Thomas-Morus-Kirche in der Deisterstra
 ße in Ronnenberg.Silvia Relja für ThoMoRo Voices
LOCATION:St. Thomas Morus-Kirche\, Deisterstraße\, 30952\, Ronnenberg
SUMMARY:ThoMoRo Voices (offene Probe)
END:VEVENT
BEGIN:VEVENT
DTSTAMP:20260329T141059Z
UID:event-occurrence-e00ef743-b924-4e89-89ec-6fbad2e3c543-event-3850e4b2-54
 0d-4596-b037-ea58b98ca4e8@termine-e
DTSTART:20261014T200000
DTEND:20261014T220000
CLASS:PUBLIC
DESCRIPTION:Der Gospelchor ThoMoRo Voices sucht Nachwuchs! Interessierte S
 ängerInnen für Sopran\, Alt\, Tenor und Bass sind herzlich willkommen. N
 otenkenntnisse sind von Vorteil\, aber keine Voraussetzung.Probe ist jeden
  Mittwoch von 20 bis 22 Uhr in der Thomas-Morus-Kirche in der Deisterstra
 ße in Ronnenberg.Silvia Relja für ThoMoRo Voices
LOCATION:St. Thomas Morus-Kirche\, Deisterstraße\, 30952\, Ronnenberg
SUMMARY:ThoMoRo Voices (offene Probe)
END:VEVENT
BEGIN:VEVENT
DTSTAMP:20260329T141059Z
UID:event-occurrence-69c5bd97-7821-45a6-851e-5e64fe8a7057-event-3850e4b2-54
 0d-4596-b037-ea58b98ca4e8@termine-e
DTSTART:20261021T200000
DTEND:20261021T220000
CLASS:PUBLIC
DESCRIPTION:Der Gospelchor ThoMoRo Voices sucht Nachwuchs! Interessierte S
 ängerInnen für Sopran\, Alt\, Tenor und Bass sind herzlich willkommen. N
 otenkenntnisse sind von Vorteil\, aber keine Voraussetzung.Probe ist jeden
  Mittwoch von 20 bis 22 Uhr in der Thomas-Morus-Kirche in der Deisterstra
 ße in Ronnenberg.Silvia Relja für ThoMoRo Voices
LOCATION:St. Thomas Morus-Kirche\, Deisterstraße\, 30952\, Ronnenberg
SUMMARY:ThoMoRo Voices (offene Probe)
END:VEVENT
BEGIN:VEVENT
DTSTAMP:20260329T141059Z
UID:event-occurrence-de58943d-46a7-4de5-bfa3-fe4a1cbf36a6-event-3850e4b2-54
 0d-4596-b037-ea58b98ca4e8@termine-e
DTSTART:20261028T200000
DTEND:20261028T220000
CLASS:PUBLIC
DESCRIPTION:Der Gospelchor ThoMoRo Voices sucht Nachwuchs! Interessierte S
 ängerInnen für Sopran\, Alt\, Tenor und Bass sind herzlich willkommen. N
 otenkenntnisse sind von Vorteil\, aber keine Voraussetzung.Probe ist jeden
  Mittwoch von 20 bis 22 Uhr in der Thomas-Morus-Kirche in der Deisterstra
 ße in Ronnenberg.Silvia Relja für ThoMoRo Voices
LOCATION:St. Thomas Morus-Kirche\, Deisterstraße\, 30952\, Ronnenberg
SUMMARY:ThoMoRo Voices (offene Probe)
END:VEVENT
BEGIN:VEVENT
DTSTAMP:20260329T141059Z
UID:event-occurrence-836de8ea-b3ff-4b38-a67c-316a055c2c54-event-3850e4b2-54
 0d-4596-b037-ea58b98ca4e8@termine-e
DTSTART:20261104T200000
DTEND:20261104T220000
CLASS:PUBLIC
DESCRIPTION:Der Gospelchor ThoMoRo Voices sucht Nachwuchs! Interessierte S
 ängerInnen für Sopran\, Alt\, Tenor und Bass sind herzlich willkommen. N
 otenkenntnisse sind von Vorteil\, aber keine Voraussetzung.Probe ist jeden
  Mittwoch von 20 bis 22 Uhr in der Thomas-Morus-Kirche in der Deisterstra
 ße in Ronnenberg.Silvia Relja für ThoMoRo Voices
LOCATION:St. Thomas Morus-Kirche\, Deisterstraße\, 30952\, Ronnenberg
SUMMARY:ThoMoRo Voices (offene Probe)
END:VEVENT
BEGIN:VEVENT
DTSTAMP:20260329T141059Z
UID:event-occurrence-da8db592-9c0e-45e7-bd95-55a1c0c4af9d-event-3850e4b2-54
 0d-4596-b037-ea58b98ca4e8@termine-e
DTSTART:20261111T200000
DTEND:20261111T220000
CLASS:PUBLIC
DESCRIPTION:Der Gospelchor ThoMoRo Voices sucht Nachwuchs! Interessierte S
 ängerInnen für Sopran\, Alt\, Tenor und Bass sind herzlich willkommen. N
 otenkenntnisse sind von Vorteil\, aber keine Voraussetzung.Probe ist jeden
  Mittwoch von 20 bis 22 Uhr in der Thomas-Morus-Kirche in der Deisterstra
 ße in Ronnenberg.Silvia Relja für ThoMoRo Voices
LOCATION:St. Thomas Morus-Kirche\, Deisterstraße\, 30952\, Ronnenberg
SUMMARY:ThoMoRo Voices (offene Probe)
END:VEVENT
BEGIN:VEVENT
DTSTAMP:20260329T141059Z
UID:event-occurrence-ff566530-d037-4b1f-8b6e-bf3270592ccd-event-3850e4b2-54
 0d-4596-b037-ea58b98ca4e8@termine-e
DTSTART:20261118T200000
DTEND:20261118T220000
CLASS:PUBLIC
DESCRIPTION:Der Gospelchor ThoMoRo Voices sucht Nachwuchs! Interessierte S
 ängerInnen für Sopran\, Alt\, Tenor und Bass sind herzlich willkommen. N
 otenkenntnisse sind von Vorteil\, aber keine Voraussetzung.Probe ist jeden
  Mittwoch von 20 bis 22 Uhr in der Thomas-Morus-Kirche in der Deisterstra
 ße in Ronnenberg.Silvia Relja für ThoMoRo Voices
LOCATION:St. Thomas Morus-Kirche\, Deisterstraße\, 30952\, Ronnenberg
SUMMARY:ThoMoRo Voices (offene Probe)
END:VEVENT
BEGIN:VEVENT
DTSTAMP:20260329T141059Z
UID:event-occurrence-5d123dba-5546-459e-95ce-75fbf6df70aa-event-3850e4b2-54
 0d-4596-b037-ea58b98ca4e8@termine-e
DTSTART:20261125T200000
DTEND:20261125T220000
CLASS:PUBLIC
DESCRIPTION:Der Gospelchor ThoMoRo Voices sucht Nachwuchs! Interessierte S
 ängerInnen für Sopran\, Alt\, Tenor und Bass sind herzlich willkommen. N
 otenkenntnisse sind von Vorteil\, aber keine Voraussetzung.Probe ist jeden
  Mittwoch von 20 bis 22 Uhr in der Thomas-Morus-Kirche in der Deisterstra
 ße in Ronnenberg.Silvia Relja für ThoMoRo Voices
LOCATION:St. Thomas Morus-Kirche\, Deisterstraße\, 30952\, Ronnenberg
SUMMARY:ThoMoRo Voices (offene Probe)
END:VEVENT
BEGIN:VEVENT
DTSTAMP:20260329T141059Z
UID:event-occurrence-c9cd655a-4e17-4792-a489-6dfea4824594-event-3850e4b2-54
 0d-4596-b037-ea58b98ca4e8@termine-e
DTSTART:20261202T200000
DTEND:20261202T220000
CLASS:PUBLIC
DESCRIPTION:Der Gospelchor ThoMoRo Voices sucht Nachwuchs! Interessierte S
 ängerInnen für Sopran\, Alt\, Tenor und Bass sind herzlich willkommen. N
 otenkenntnisse sind von Vorteil\, aber keine Voraussetzung.Probe ist jeden
  Mittwoch von 20 bis 22 Uhr in der Thomas-Morus-Kirche in der Deisterstra
 ße in Ronnenberg.Silvia Relja für ThoMoRo Voices
LOCATION:St. Thomas Morus-Kirche\, Deisterstraße\, 30952\, Ronnenberg
SUMMARY:ThoMoRo Voices (offene Probe)
END:VEVENT
BEGIN:VEVENT
DTSTAMP:20260329T141059Z
UID:event-occurrence-7dee0685-2807-4831-a493-df7cd269fc0a-event-3850e4b2-54
 0d-4596-b037-ea58b98ca4e8@termine-e
DTSTART:20261209T200000
DTEND:20261209T220000
CLASS:PUBLIC
DESCRIPTION:Der Gospelchor ThoMoRo Voices sucht Nachwuchs! Interessierte S
 ängerInnen für Sopran\, Alt\, Tenor und Bass sind herzlich willkommen. N
 otenkenntnisse sind von Vorteil\, aber keine Voraussetzung.Probe ist jeden
  Mittwoch von 20 bis 22 Uhr in der Thomas-Morus-Kirche in der Deisterstra
 ße in Ronnenberg.Silvia Relja für ThoMoRo Voices
LOCATION:St. Thomas Morus-Kirche\, Deisterstraße\, 30952\, Ronnenberg
SUMMARY:ThoMoRo Voices (offene Probe)
END:VEVENT
BEGIN:VEVENT
DTSTAMP:20260329T141059Z
UID:event-occurrence-5db9d8df-0885-43c1-8071-6bd70a5b6573-event-3850e4b2-54
 0d-4596-b037-ea58b98ca4e8@termine-e
DTSTART:20261216T200000
DTEND:20261216T220000
CLASS:PUBLIC
DESCRIPTION:Der Gospelchor ThoMoRo Voices sucht Nachwuchs! Interessierte S
 ängerInnen für Sopran\, Alt\, Tenor und Bass sind herzlich willkommen. N
 otenkenntnisse sind von Vorteil\, aber keine Voraussetzung.Probe ist jeden
  Mittwoch von 20 bis 22 Uhr in der Thomas-Morus-Kirche in der Deisterstra
 ße in Ronnenberg.Silvia Relja für ThoMoRo Voices
LOCATION:St. Thomas Morus-Kirche\, Deisterstraße\, 30952\, Ronnenberg
SUMMARY:ThoMoRo Voices (offene Probe)
END:VEVENT
BEGIN:VEVENT
DTSTAMP:20260329T141059Z
UID:event-occurrence-14e5244b-9870-4fdf-bd19-0a81ad265a03-event-3850e4b2-54
 0d-4596-b037-ea58b98ca4e8@termine-e
DTSTART:20261223T200000
DTEND:20261223T220000
CLASS:PUBLIC
DESCRIPTION:Der Gospelchor ThoMoRo Voices sucht Nachwuchs! Interessierte S
 ängerInnen für Sopran\, Alt\, Tenor und Bass sind herzlich willkommen. N
 otenkenntnisse sind von Vorteil\, aber keine Voraussetzung.Probe ist jeden
  Mittwoch von 20 bis 22 Uhr in der Thomas-Morus-Kirche in der Deisterstra
 ße in Ronnenberg.Silvia Relja für ThoMoRo Voices
LOCATION:St. Thomas Morus-Kirche\, Deisterstraße\, 30952\, Ronnenberg
SUMMARY:ThoMoRo Voices (offene Probe)
END:VEVENT
BEGIN:VEVENT
DTSTAMP:20260329T141059Z
UID:event-occurrence-2ec59329-48dc-41ee-84e3-79f1a0bae8ac-event-3850e4b2-54
 0d-4596-b037-ea58b98ca4e8@termine-e
DTSTART:20261230T200000
DTEND:20261230T220000
CLASS:PUBLIC
DESCRIPTION:Der Gospelchor ThoMoRo Voices sucht Nachwuchs! Interessierte S
 ängerInnen für Sopran\, Alt\, Tenor und Bass sind herzlich willkommen. N
 otenkenntnisse sind von Vorteil\, aber keine Voraussetzung.Probe ist jeden
  Mittwoch von 20 bis 22 Uhr in der Thomas-Morus-Kirche in der Deisterstra
 ße in Ronnenberg.Silvia Relja für ThoMoRo Voices
LOCATION:St. Thomas Morus-Kirche\, Deisterstraße\, 30952\, Ronnenberg
SUMMARY:ThoMoRo Voices (offene Probe)
END:VEVENT
END:VCALENDAR
