BEGIN:VCALENDAR
VERSION:2.0
PRODID:icalendar-ruby
CALSCALE:GREGORIAN
BEGIN:VEVENT
DTSTAMP:20260416T095912Z
UID:event-occurrence-30e15c88-94e8-4fa4-88a5-4198354c4c43-event-374879ee-15
 1c-48a0-9da0-bd4323536db8@termine-e
DTSTART:20260830T100000
DTEND:20260830T170000
CLASS:PUBLIC
DESCRIPTION:Auf der Tagesordnung steht unter anderem neues aus Gremien\, Ge
 meinden und Arbeitsgruppen\, die Nachwahl in den Vorstand für die Region 
 Nord\, sowie die Findung eines neues Jahresmottos für 2027.
LOCATION:Gemeindehaus Heemsen\, Schulstraße 2\, 31622\, Heemsen
SUMMARY:KKJK Sitzung
END:VEVENT
END:VCALENDAR
