BEGIN:VCALENDAR
VERSION:2.0
PRODID:icalendar-ruby
CALSCALE:GREGORIAN
BEGIN:VEVENT
DTSTAMP:20260424T115032Z
UID:event-occurrence-a06cced7-e82b-47fb-b894-7330bcd63b37-event-3610c052-00
 55-48ef-a639-e8d410d71590@termine-e
DTSTART:20260429T180000
DTEND:20260429T000000
CLASS:PUBLIC
LOCATION:ESG-Osnabrück\, Arndtstraße 19\, 49080\, Osnabrück
SUMMARY:ESG Abendbrot
END:VEVENT
END:VCALENDAR
