BEGIN:VCALENDAR
VERSION:2.0
PRODID:icalendar-ruby
CALSCALE:GREGORIAN
BEGIN:VEVENT
DTSTAMP:20260407T100139Z
UID:event-occurrence-7fa08497-a069-44ac-b6bf-4ea7516b2576-event-360b8eb9-f1
 fa-4140-8e69-e66c701347e4@termine-e
DTSTART:20260607T190000
DTEND:20260607T000000
CLASS:PUBLIC
DESCRIPTION:1. Sonntag nach TrinitatisGottesdienst
LOCATION:Grundschule Willen\, Brink 52\, 26409\, Wittmund
SUMMARY:Gottesdienst in Willen
END:VEVENT
END:VCALENDAR
