BEGIN:VCALENDAR
VERSION:2.0
PRODID:icalendar-ruby
CALSCALE:GREGORIAN
BEGIN:VEVENT
DTSTAMP:20260329T135522Z
UID:event-occurrence-3f06969a-fb52-40a8-9dc5-287b9f48f771-event-349d7982-0e
 8b-418c-b05c-13600ed7a055@termine-e
DTSTART:20260527T160000
DTEND:20260527T000000
CLASS:PUBLIC
DESCRIPTION:Du magst nicht gern allein stricken oder häkeln? Dann komm vor
 bei!Wir sind die Strickliesen und treffen uns regelmäßig mittwochs von 1
 6 bis 18 Uhr im „Papphaus“ der Michaeliskirchengemeinde in Ronnenberg 
 (Am Kirchhofe 4e). Die Teilnahme ist kostenlos. Schnapp dir deine Wolle un
 d los geht’s! Wir freuen uns auf dich.Auskunft und Anmeldung: Ramona Rog
 ge\, Tel. 01520 9286870\, E-Mail Roggeramona3@gmail.com
LOCATION:„Papphaus“\, Am Kirchhofe 4e\, 30952\, Ronnenberg
SUMMARY:Strickliesen in Ronnenberg
END:VEVENT
END:VCALENDAR
