BEGIN:VCALENDAR
VERSION:2.0
PRODID:icalendar-ruby
CALSCALE:GREGORIAN
BEGIN:VEVENT
DTSTAMP:20260408T194641Z
UID:event-occurrence-757c6912-4d2b-4ec2-bcac-76eec6ceeae8-event-3301d631-7e
 00-494c-b890-8e7575cc1650@termine-e
DTSTART:20260512T150000
DTEND:20260512T170000
CLASS:PUBLIC
DESCRIPTION:Miriam Steens ist Ansprechpartnerin in allen Demenzfragen. Sie 
 hat den neuen Studiengang für Pflegekräfte erfolgreich abgeschlossen und
  arbeitet nun im Altkreis Bremervörde an der Verbesserung der gesundheitl
 ichen Versorgung von Menschen mit Demenz und an Unterstützungsangeboten f
 ür Angehörige.Alle Interessierten sind herzlich willkommen. Damit die Ki
 rchengemeinde planen kann\, bittet sie um telefonische Anmeldung (Tel. 042
 85/274).
LOCATION:Gemeindehaus\, Hauptstraße 10\, 27404\, Rhade
SUMMARY:Gemeindenachmittag: Leben mit Demenz
END:VEVENT
END:VCALENDAR
