BEGIN:VCALENDAR
VERSION:2.0
PRODID:icalendar-ruby
CALSCALE:GREGORIAN
BEGIN:VEVENT
DTSTAMP:20260420T084642Z
UID:event-occurrence-fb7b6c2b-1d2b-4d9c-9e20-1f72a40488ba-event-325d2310-06
 0c-43fe-b1fb-a3b0e04ed8a9@termine-e
DTSTART:20260425T093000
DTEND:20260425T000000
CLASS:PUBLIC
DESCRIPTION:Mit Pastorin Lara Schilde
LOCATION:Johannes-der-Täufer-Kirche Bexhövede\, Am Bekeshoop 2\, 27612\, 
 Bexhövede
SUMMARY:Konfirmation in Bexhövede
END:VEVENT
END:VCALENDAR
