BEGIN:VCALENDAR
VERSION:2.0
PRODID:icalendar-ruby
CALSCALE:GREGORIAN
BEGIN:VEVENT
DTSTAMP:20251121T112707Z
UID:event-occurrence-93ae33b9-fe1b-4ce0-9c83-a8d699d7febd-event-31fd8ea8-cd
 76-4722-b4a5-3c9877f2ffc1@termine-e
DTSTART:20251128T170000
DTEND:20251128T000000
CLASS:PUBLIC
DESCRIPTION:Alle Jahre wieder freuen wir uns auf das Adventssingen mit Frit
 z Baltruweit. Am Freitag\, 28.11. um 17.00 Uhr laden wir Sie herzlich zu e
 iner besinnlichen Stunde ein\, in der wir gemeinsam altvertraute und neue 
 Lieder zur Advents- und Weihnachtszeit singen. Lassen Sie sich musikalisch
  auf die festliche Jahreszeit einstimmen. Im Anschluss sind Sie eingeladen
 \, bei Glühwein und Keksen in gemütlicher Atmosphäre unseren liebevoll 
 gestalteten Basar der Bastelgruppe und der Lukasstiftung zu besuchen. ...
LOCATION:Lukaskirche\, Schlesierstr. 5\, 31139\, Hildesheim
SUMMARY:Adventsliedersingen mit Fritz Baltruweit und "Basar der kleinen Mö
 glichkeiten"
END:VEVENT
END:VCALENDAR
