BEGIN:VCALENDAR
VERSION:2.0
PRODID:icalendar-ruby
CALSCALE:GREGORIAN
BEGIN:VEVENT
DTSTAMP:20260421T194734Z
UID:event-occurrence-66a10bf4-2ccf-45f5-be0b-7cdc8d1402d5-event-31ebb8fd-0b
 4f-4068-9c41-1d55a8bf9a48@termine-e
DTSTART:20260428T150000
DTEND:20260428T000000
CLASS:PUBLIC
DESCRIPTION:Nach dem Verlust eines geliebten Menschen ist es für Trauernde
  nicht einfach\, wieder in den Alltag zurückzufinden. Hinzu kommt\, dass 
 von der trauernden Person erwartet wird\, möglichst schnell wieder zu „
 funktionieren“. Der Besuch des Trauer-Cafés kann ein erster Schritt in 
 die Trauerarbeit sein. Es bietet einen geschützten Raum\, in dem Trauer m
 it allen Gefühlen\, Fragen und Ängsten bewältigt werden kann.
LOCATION:Gemeindehaus Dörverden\, Kirchstraße 15\, 27313\, Dörverden
SUMMARY:Trauer-Café - Ein Ort für alle Trauernden
END:VEVENT
END:VCALENDAR
