BEGIN:VCALENDAR
VERSION:2.0
PRODID:icalendar-ruby
CALSCALE:GREGORIAN
BEGIN:VEVENT
DTSTAMP:20260420T104334Z
UID:event-occurrence-7bf2a852-37ed-4cae-990e-889b2665dba8-event-3158fcc7-0a
 65-4c09-82da-72a267b69a30@termine-e
DTSTART:20260508T180000
DTEND:20260508T000000
CLASS:PUBLIC
LOCATION:St. Katharinen\, An der Katharinenkirche 8\, 49074\, Osnabrück
SUMMARY:Gottesdienst zum Feierabend\, Diakonin Lisa Neumann\, Holger Dolkem
 eyer (Orgel)
END:VEVENT
END:VCALENDAR
