BEGIN:VCALENDAR
VERSION:2.0
PRODID:icalendar-ruby
CALSCALE:GREGORIAN
BEGIN:VEVENT
DTSTAMP:20260225T070051Z
UID:event-occurrence-ce2446d7-fca2-4a82-b2b6-9c488a4899f8-event-30c8b515-4b
 2c-4fd6-9268-4becbfc364f3@termine-e
DTSTART:20260220T170000
DTEND:20260220T190000
CLASS:PUBLIC
DESCRIPTION:Wir sind ein gemiischter Gospelchor\, der sich über weitere S
 ängerinnen und Sänger aller Altersklassen freut! Gerne lockern wir die G
 ottesdienste auf\, und plauschen auch gerne noch nach der Probe.
LOCATION:Gemeindesaal Hohenbostel\, An der Kirche 1\, 30890\, Barsinghausen
SUMMARY:Gospelchor
END:VEVENT
BEGIN:VEVENT
DTSTAMP:20260225T070051Z
UID:event-occurrence-d716bca0-9606-4d03-92e6-a74679a57002-event-30c8b515-4b
 2c-4fd6-9268-4becbfc364f3@termine-e
DTSTART:20260227T170000
DTEND:20260227T190000
CLASS:PUBLIC
DESCRIPTION:Wir sind ein gemiischter Gospelchor\, der sich über weitere S
 ängerinnen und Sänger aller Altersklassen freut! Gerne lockern wir die G
 ottesdienste auf\, und plauschen auch gerne noch nach der Probe.
LOCATION:Gemeindesaal Hohenbostel\, An der Kirche 1\, 30890\, Barsinghausen
SUMMARY:Gospelchor
END:VEVENT
BEGIN:VEVENT
DTSTAMP:20260225T070051Z
UID:event-occurrence-84e16add-0c4c-4155-a720-012d39007d5f-event-30c8b515-4b
 2c-4fd6-9268-4becbfc364f3@termine-e
DTSTART:20260306T170000
DTEND:20260306T190000
CLASS:PUBLIC
DESCRIPTION:Wir sind ein gemiischter Gospelchor\, der sich über weitere S
 ängerinnen und Sänger aller Altersklassen freut! Gerne lockern wir die G
 ottesdienste auf\, und plauschen auch gerne noch nach der Probe.
LOCATION:Gemeindesaal Hohenbostel\, An der Kirche 1\, 30890\, Barsinghausen
SUMMARY:Gospelchor
END:VEVENT
BEGIN:VEVENT
DTSTAMP:20260225T070051Z
UID:event-occurrence-48784743-0107-4ba9-9d0d-df98b28d19b6-event-30c8b515-4b
 2c-4fd6-9268-4becbfc364f3@termine-e
DTSTART:20260313T170000
DTEND:20260313T190000
CLASS:PUBLIC
DESCRIPTION:Wir sind ein gemiischter Gospelchor\, der sich über weitere S
 ängerinnen und Sänger aller Altersklassen freut! Gerne lockern wir die G
 ottesdienste auf\, und plauschen auch gerne noch nach der Probe.
LOCATION:Gemeindesaal Hohenbostel\, An der Kirche 1\, 30890\, Barsinghausen
SUMMARY:Gospelchor
END:VEVENT
BEGIN:VEVENT
DTSTAMP:20260225T070051Z
UID:event-occurrence-84b4ee05-64c5-437f-be7e-1e875ffdff44-event-30c8b515-4b
 2c-4fd6-9268-4becbfc364f3@termine-e
DTSTART:20260320T170000
DTEND:20260320T190000
CLASS:PUBLIC
DESCRIPTION:Wir sind ein gemiischter Gospelchor\, der sich über weitere S
 ängerinnen und Sänger aller Altersklassen freut! Gerne lockern wir die G
 ottesdienste auf\, und plauschen auch gerne noch nach der Probe.
LOCATION:Gemeindesaal Hohenbostel\, An der Kirche 1\, 30890\, Barsinghausen
SUMMARY:Gospelchor
END:VEVENT
BEGIN:VEVENT
DTSTAMP:20260225T070051Z
UID:event-occurrence-ce222b54-5781-4cbb-84b4-c895b0c33306-event-30c8b515-4b
 2c-4fd6-9268-4becbfc364f3@termine-e
DTSTART:20260327T170000
DTEND:20260327T190000
CLASS:PUBLIC
DESCRIPTION:Wir sind ein gemiischter Gospelchor\, der sich über weitere S
 ängerinnen und Sänger aller Altersklassen freut! Gerne lockern wir die G
 ottesdienste auf\, und plauschen auch gerne noch nach der Probe.
LOCATION:Gemeindesaal Hohenbostel\, An der Kirche 1\, 30890\, Barsinghausen
SUMMARY:Gospelchor
END:VEVENT
BEGIN:VEVENT
DTSTAMP:20260225T070051Z
UID:event-occurrence-9efc5a51-1d35-42d3-96fc-544a062cbf72-event-30c8b515-4b
 2c-4fd6-9268-4becbfc364f3@termine-e
DTSTART:20260403T170000
DTEND:20260403T190000
CLASS:PUBLIC
DESCRIPTION:Wir sind ein gemiischter Gospelchor\, der sich über weitere S
 ängerinnen und Sänger aller Altersklassen freut! Gerne lockern wir die G
 ottesdienste auf\, und plauschen auch gerne noch nach der Probe.
LOCATION:Gemeindesaal Hohenbostel\, An der Kirche 1\, 30890\, Barsinghausen
SUMMARY:Gospelchor
END:VEVENT
BEGIN:VEVENT
DTSTAMP:20260225T070051Z
UID:event-occurrence-6eb793cb-5c9b-41a4-9048-1f2d84775d26-event-30c8b515-4b
 2c-4fd6-9268-4becbfc364f3@termine-e
DTSTART:20260410T170000
DTEND:20260410T190000
CLASS:PUBLIC
DESCRIPTION:Wir sind ein gemiischter Gospelchor\, der sich über weitere S
 ängerinnen und Sänger aller Altersklassen freut! Gerne lockern wir die G
 ottesdienste auf\, und plauschen auch gerne noch nach der Probe.
LOCATION:Gemeindesaal Hohenbostel\, An der Kirche 1\, 30890\, Barsinghausen
SUMMARY:Gospelchor
END:VEVENT
BEGIN:VEVENT
DTSTAMP:20260225T070051Z
UID:event-occurrence-0b07fcfa-2ea8-46eb-93af-5986ae605bac-event-30c8b515-4b
 2c-4fd6-9268-4becbfc364f3@termine-e
DTSTART:20260417T170000
DTEND:20260417T190000
CLASS:PUBLIC
DESCRIPTION:Wir sind ein gemiischter Gospelchor\, der sich über weitere S
 ängerinnen und Sänger aller Altersklassen freut! Gerne lockern wir die G
 ottesdienste auf\, und plauschen auch gerne noch nach der Probe.
LOCATION:Gemeindesaal Hohenbostel\, An der Kirche 1\, 30890\, Barsinghausen
SUMMARY:Gospelchor
END:VEVENT
BEGIN:VEVENT
DTSTAMP:20260225T070051Z
UID:event-occurrence-023adb6b-5287-4542-ad41-0589bb658744-event-30c8b515-4b
 2c-4fd6-9268-4becbfc364f3@termine-e
DTSTART:20260424T170000
DTEND:20260424T190000
CLASS:PUBLIC
DESCRIPTION:Wir sind ein gemiischter Gospelchor\, der sich über weitere S
 ängerinnen und Sänger aller Altersklassen freut! Gerne lockern wir die G
 ottesdienste auf\, und plauschen auch gerne noch nach der Probe.
LOCATION:Gemeindesaal Hohenbostel\, An der Kirche 1\, 30890\, Barsinghausen
SUMMARY:Gospelchor
END:VEVENT
BEGIN:VEVENT
DTSTAMP:20260225T070051Z
UID:event-occurrence-d9dc1849-3100-422a-89cb-53b771fbbb53-event-30c8b515-4b
 2c-4fd6-9268-4becbfc364f3@termine-e
DTSTART:20260501T170000
DTEND:20260501T190000
CLASS:PUBLIC
DESCRIPTION:Wir sind ein gemiischter Gospelchor\, der sich über weitere S
 ängerinnen und Sänger aller Altersklassen freut! Gerne lockern wir die G
 ottesdienste auf\, und plauschen auch gerne noch nach der Probe.
LOCATION:Gemeindesaal Hohenbostel\, An der Kirche 1\, 30890\, Barsinghausen
SUMMARY:Gospelchor
END:VEVENT
BEGIN:VEVENT
DTSTAMP:20260225T070051Z
UID:event-occurrence-2e9f08c8-f0da-435e-bf33-07d47bf645c3-event-30c8b515-4b
 2c-4fd6-9268-4becbfc364f3@termine-e
DTSTART:20260508T170000
DTEND:20260508T190000
CLASS:PUBLIC
DESCRIPTION:Wir sind ein gemiischter Gospelchor\, der sich über weitere S
 ängerinnen und Sänger aller Altersklassen freut! Gerne lockern wir die G
 ottesdienste auf\, und plauschen auch gerne noch nach der Probe.
LOCATION:Gemeindesaal Hohenbostel\, An der Kirche 1\, 30890\, Barsinghausen
SUMMARY:Gospelchor
END:VEVENT
BEGIN:VEVENT
DTSTAMP:20260225T070051Z
UID:event-occurrence-a72d0f78-a9f8-4693-a788-89f91db801b4-event-30c8b515-4b
 2c-4fd6-9268-4becbfc364f3@termine-e
DTSTART:20260515T170000
DTEND:20260515T190000
CLASS:PUBLIC
DESCRIPTION:Wir sind ein gemiischter Gospelchor\, der sich über weitere S
 ängerinnen und Sänger aller Altersklassen freut! Gerne lockern wir die G
 ottesdienste auf\, und plauschen auch gerne noch nach der Probe.
LOCATION:Gemeindesaal Hohenbostel\, An der Kirche 1\, 30890\, Barsinghausen
SUMMARY:Gospelchor
END:VEVENT
BEGIN:VEVENT
DTSTAMP:20260225T070051Z
UID:event-occurrence-ef0c747b-c8b6-4119-8639-f1d6bda47ace-event-30c8b515-4b
 2c-4fd6-9268-4becbfc364f3@termine-e
DTSTART:20260522T170000
DTEND:20260522T190000
CLASS:PUBLIC
DESCRIPTION:Wir sind ein gemiischter Gospelchor\, der sich über weitere S
 ängerinnen und Sänger aller Altersklassen freut! Gerne lockern wir die G
 ottesdienste auf\, und plauschen auch gerne noch nach der Probe.
LOCATION:Gemeindesaal Hohenbostel\, An der Kirche 1\, 30890\, Barsinghausen
SUMMARY:Gospelchor
END:VEVENT
BEGIN:VEVENT
DTSTAMP:20260225T070051Z
UID:event-occurrence-335e9e29-2f79-4558-a585-5364a4e7551d-event-30c8b515-4b
 2c-4fd6-9268-4becbfc364f3@termine-e
DTSTART:20260529T170000
DTEND:20260529T190000
CLASS:PUBLIC
DESCRIPTION:Wir sind ein gemiischter Gospelchor\, der sich über weitere S
 ängerinnen und Sänger aller Altersklassen freut! Gerne lockern wir die G
 ottesdienste auf\, und plauschen auch gerne noch nach der Probe.
LOCATION:Gemeindesaal Hohenbostel\, An der Kirche 1\, 30890\, Barsinghausen
SUMMARY:Gospelchor
END:VEVENT
BEGIN:VEVENT
DTSTAMP:20260225T070051Z
UID:event-occurrence-e0c5ffc3-48a9-4f6a-9926-c07e20d0dbea-event-30c8b515-4b
 2c-4fd6-9268-4becbfc364f3@termine-e
DTSTART:20260605T170000
DTEND:20260605T190000
CLASS:PUBLIC
DESCRIPTION:Wir sind ein gemiischter Gospelchor\, der sich über weitere S
 ängerinnen und Sänger aller Altersklassen freut! Gerne lockern wir die G
 ottesdienste auf\, und plauschen auch gerne noch nach der Probe.
LOCATION:Gemeindesaal Hohenbostel\, An der Kirche 1\, 30890\, Barsinghausen
SUMMARY:Gospelchor
END:VEVENT
BEGIN:VEVENT
DTSTAMP:20260225T070051Z
UID:event-occurrence-c038bdbc-88ec-4381-99f8-94a0786588fd-event-30c8b515-4b
 2c-4fd6-9268-4becbfc364f3@termine-e
DTSTART:20260612T170000
DTEND:20260612T190000
CLASS:PUBLIC
DESCRIPTION:Wir sind ein gemiischter Gospelchor\, der sich über weitere S
 ängerinnen und Sänger aller Altersklassen freut! Gerne lockern wir die G
 ottesdienste auf\, und plauschen auch gerne noch nach der Probe.
LOCATION:Gemeindesaal Hohenbostel\, An der Kirche 1\, 30890\, Barsinghausen
SUMMARY:Gospelchor
END:VEVENT
BEGIN:VEVENT
DTSTAMP:20260225T070051Z
UID:event-occurrence-de295476-5942-417c-9dab-859186d3188b-event-30c8b515-4b
 2c-4fd6-9268-4becbfc364f3@termine-e
DTSTART:20260619T170000
DTEND:20260619T190000
CLASS:PUBLIC
DESCRIPTION:Wir sind ein gemiischter Gospelchor\, der sich über weitere S
 ängerinnen und Sänger aller Altersklassen freut! Gerne lockern wir die G
 ottesdienste auf\, und plauschen auch gerne noch nach der Probe.
LOCATION:Gemeindesaal Hohenbostel\, An der Kirche 1\, 30890\, Barsinghausen
SUMMARY:Gospelchor
END:VEVENT
BEGIN:VEVENT
DTSTAMP:20260225T070051Z
UID:event-occurrence-bef464d6-9539-4ec2-96b0-c498131e8f71-event-30c8b515-4b
 2c-4fd6-9268-4becbfc364f3@termine-e
DTSTART:20260626T170000
DTEND:20260626T190000
CLASS:PUBLIC
DESCRIPTION:Wir sind ein gemiischter Gospelchor\, der sich über weitere S
 ängerinnen und Sänger aller Altersklassen freut! Gerne lockern wir die G
 ottesdienste auf\, und plauschen auch gerne noch nach der Probe.
LOCATION:Gemeindesaal Hohenbostel\, An der Kirche 1\, 30890\, Barsinghausen
SUMMARY:Gospelchor
END:VEVENT
BEGIN:VEVENT
DTSTAMP:20260225T070051Z
UID:event-occurrence-692a0295-d8a3-422d-964a-813eb6881c4f-event-30c8b515-4b
 2c-4fd6-9268-4becbfc364f3@termine-e
DTSTART:20260703T170000
DTEND:20260703T190000
CLASS:PUBLIC
DESCRIPTION:Wir sind ein gemiischter Gospelchor\, der sich über weitere S
 ängerinnen und Sänger aller Altersklassen freut! Gerne lockern wir die G
 ottesdienste auf\, und plauschen auch gerne noch nach der Probe.
LOCATION:Gemeindesaal Hohenbostel\, An der Kirche 1\, 30890\, Barsinghausen
SUMMARY:Gospelchor
END:VEVENT
BEGIN:VEVENT
DTSTAMP:20260225T070051Z
UID:event-occurrence-b29984b2-7c3f-4162-888f-e39f5c0ef592-event-30c8b515-4b
 2c-4fd6-9268-4becbfc364f3@termine-e
DTSTART:20260710T170000
DTEND:20260710T190000
CLASS:PUBLIC
DESCRIPTION:Wir sind ein gemiischter Gospelchor\, der sich über weitere S
 ängerinnen und Sänger aller Altersklassen freut! Gerne lockern wir die G
 ottesdienste auf\, und plauschen auch gerne noch nach der Probe.
LOCATION:Gemeindesaal Hohenbostel\, An der Kirche 1\, 30890\, Barsinghausen
SUMMARY:Gospelchor
END:VEVENT
BEGIN:VEVENT
DTSTAMP:20260225T070051Z
UID:event-occurrence-d328b79c-119c-4870-b991-a9aef7802b7a-event-30c8b515-4b
 2c-4fd6-9268-4becbfc364f3@termine-e
DTSTART:20260717T170000
DTEND:20260717T190000
CLASS:PUBLIC
DESCRIPTION:Wir sind ein gemiischter Gospelchor\, der sich über weitere S
 ängerinnen und Sänger aller Altersklassen freut! Gerne lockern wir die G
 ottesdienste auf\, und plauschen auch gerne noch nach der Probe.
LOCATION:Gemeindesaal Hohenbostel\, An der Kirche 1\, 30890\, Barsinghausen
SUMMARY:Gospelchor
END:VEVENT
BEGIN:VEVENT
DTSTAMP:20260225T070051Z
UID:event-occurrence-e03b12f9-f2a4-42fc-9d05-13fa678e895b-event-30c8b515-4b
 2c-4fd6-9268-4becbfc364f3@termine-e
DTSTART:20260724T170000
DTEND:20260724T190000
CLASS:PUBLIC
DESCRIPTION:Wir sind ein gemiischter Gospelchor\, der sich über weitere S
 ängerinnen und Sänger aller Altersklassen freut! Gerne lockern wir die G
 ottesdienste auf\, und plauschen auch gerne noch nach der Probe.
LOCATION:Gemeindesaal Hohenbostel\, An der Kirche 1\, 30890\, Barsinghausen
SUMMARY:Gospelchor
END:VEVENT
BEGIN:VEVENT
DTSTAMP:20260225T070051Z
UID:event-occurrence-3f9e66e1-0ba2-4090-8dc1-946eca9b8613-event-30c8b515-4b
 2c-4fd6-9268-4becbfc364f3@termine-e
DTSTART:20260731T170000
DTEND:20260731T190000
CLASS:PUBLIC
DESCRIPTION:Wir sind ein gemiischter Gospelchor\, der sich über weitere S
 ängerinnen und Sänger aller Altersklassen freut! Gerne lockern wir die G
 ottesdienste auf\, und plauschen auch gerne noch nach der Probe.
LOCATION:Gemeindesaal Hohenbostel\, An der Kirche 1\, 30890\, Barsinghausen
SUMMARY:Gospelchor
END:VEVENT
BEGIN:VEVENT
DTSTAMP:20260225T070051Z
UID:event-occurrence-5fe55ed7-3bd6-4ffa-8283-857e212f8233-event-30c8b515-4b
 2c-4fd6-9268-4becbfc364f3@termine-e
DTSTART:20260807T170000
DTEND:20260807T190000
CLASS:PUBLIC
DESCRIPTION:Wir sind ein gemiischter Gospelchor\, der sich über weitere S
 ängerinnen und Sänger aller Altersklassen freut! Gerne lockern wir die G
 ottesdienste auf\, und plauschen auch gerne noch nach der Probe.
LOCATION:Gemeindesaal Hohenbostel\, An der Kirche 1\, 30890\, Barsinghausen
SUMMARY:Gospelchor
END:VEVENT
BEGIN:VEVENT
DTSTAMP:20260225T070051Z
UID:event-occurrence-293bc8cf-2681-4d3b-8991-91036be67061-event-30c8b515-4b
 2c-4fd6-9268-4becbfc364f3@termine-e
DTSTART:20260814T170000
DTEND:20260814T190000
CLASS:PUBLIC
DESCRIPTION:Wir sind ein gemiischter Gospelchor\, der sich über weitere S
 ängerinnen und Sänger aller Altersklassen freut! Gerne lockern wir die G
 ottesdienste auf\, und plauschen auch gerne noch nach der Probe.
LOCATION:Gemeindesaal Hohenbostel\, An der Kirche 1\, 30890\, Barsinghausen
SUMMARY:Gospelchor
END:VEVENT
BEGIN:VEVENT
DTSTAMP:20260225T070051Z
UID:event-occurrence-356f20fa-9361-42fd-9d5a-37b6248b1f15-event-30c8b515-4b
 2c-4fd6-9268-4becbfc364f3@termine-e
DTSTART:20260821T170000
DTEND:20260821T190000
CLASS:PUBLIC
DESCRIPTION:Wir sind ein gemiischter Gospelchor\, der sich über weitere S
 ängerinnen und Sänger aller Altersklassen freut! Gerne lockern wir die G
 ottesdienste auf\, und plauschen auch gerne noch nach der Probe.
LOCATION:Gemeindesaal Hohenbostel\, An der Kirche 1\, 30890\, Barsinghausen
SUMMARY:Gospelchor
END:VEVENT
BEGIN:VEVENT
DTSTAMP:20260225T070051Z
UID:event-occurrence-3098b945-cf29-4429-b197-2d7c66abc94b-event-30c8b515-4b
 2c-4fd6-9268-4becbfc364f3@termine-e
DTSTART:20260828T170000
DTEND:20260828T190000
CLASS:PUBLIC
DESCRIPTION:Wir sind ein gemiischter Gospelchor\, der sich über weitere S
 ängerinnen und Sänger aller Altersklassen freut! Gerne lockern wir die G
 ottesdienste auf\, und plauschen auch gerne noch nach der Probe.
LOCATION:Gemeindesaal Hohenbostel\, An der Kirche 1\, 30890\, Barsinghausen
SUMMARY:Gospelchor
END:VEVENT
BEGIN:VEVENT
DTSTAMP:20260225T070051Z
UID:event-occurrence-229986d4-ec8d-4b8f-852d-aa094d0237a4-event-30c8b515-4b
 2c-4fd6-9268-4becbfc364f3@termine-e
DTSTART:20260904T170000
DTEND:20260904T190000
CLASS:PUBLIC
DESCRIPTION:Wir sind ein gemiischter Gospelchor\, der sich über weitere S
 ängerinnen und Sänger aller Altersklassen freut! Gerne lockern wir die G
 ottesdienste auf\, und plauschen auch gerne noch nach der Probe.
LOCATION:Gemeindesaal Hohenbostel\, An der Kirche 1\, 30890\, Barsinghausen
SUMMARY:Gospelchor
END:VEVENT
BEGIN:VEVENT
DTSTAMP:20260225T070051Z
UID:event-occurrence-bbdb21a8-fff3-4b65-96a2-fb2cae226118-event-30c8b515-4b
 2c-4fd6-9268-4becbfc364f3@termine-e
DTSTART:20260911T170000
DTEND:20260911T190000
CLASS:PUBLIC
DESCRIPTION:Wir sind ein gemiischter Gospelchor\, der sich über weitere S
 ängerinnen und Sänger aller Altersklassen freut! Gerne lockern wir die G
 ottesdienste auf\, und plauschen auch gerne noch nach der Probe.
LOCATION:Gemeindesaal Hohenbostel\, An der Kirche 1\, 30890\, Barsinghausen
SUMMARY:Gospelchor
END:VEVENT
BEGIN:VEVENT
DTSTAMP:20260225T070051Z
UID:event-occurrence-8cd0af1a-8e83-477e-876b-bf78742eee8c-event-30c8b515-4b
 2c-4fd6-9268-4becbfc364f3@termine-e
DTSTART:20260918T170000
DTEND:20260918T190000
CLASS:PUBLIC
DESCRIPTION:Wir sind ein gemiischter Gospelchor\, der sich über weitere S
 ängerinnen und Sänger aller Altersklassen freut! Gerne lockern wir die G
 ottesdienste auf\, und plauschen auch gerne noch nach der Probe.
LOCATION:Gemeindesaal Hohenbostel\, An der Kirche 1\, 30890\, Barsinghausen
SUMMARY:Gospelchor
END:VEVENT
BEGIN:VEVENT
DTSTAMP:20260225T070051Z
UID:event-occurrence-eed8040d-e363-465f-8fe1-cf865f4cb6cd-event-30c8b515-4b
 2c-4fd6-9268-4becbfc364f3@termine-e
DTSTART:20260925T170000
DTEND:20260925T190000
CLASS:PUBLIC
DESCRIPTION:Wir sind ein gemiischter Gospelchor\, der sich über weitere S
 ängerinnen und Sänger aller Altersklassen freut! Gerne lockern wir die G
 ottesdienste auf\, und plauschen auch gerne noch nach der Probe.
LOCATION:Gemeindesaal Hohenbostel\, An der Kirche 1\, 30890\, Barsinghausen
SUMMARY:Gospelchor
END:VEVENT
BEGIN:VEVENT
DTSTAMP:20260225T070051Z
UID:event-occurrence-ee876d49-4a94-4436-8012-1f120b25f71e-event-30c8b515-4b
 2c-4fd6-9268-4becbfc364f3@termine-e
DTSTART:20261002T170000
DTEND:20261002T190000
CLASS:PUBLIC
DESCRIPTION:Wir sind ein gemiischter Gospelchor\, der sich über weitere S
 ängerinnen und Sänger aller Altersklassen freut! Gerne lockern wir die G
 ottesdienste auf\, und plauschen auch gerne noch nach der Probe.
LOCATION:Gemeindesaal Hohenbostel\, An der Kirche 1\, 30890\, Barsinghausen
SUMMARY:Gospelchor
END:VEVENT
BEGIN:VEVENT
DTSTAMP:20260225T070051Z
UID:event-occurrence-b29c2bb0-22ed-4ccc-ac29-e2cd7876413b-event-30c8b515-4b
 2c-4fd6-9268-4becbfc364f3@termine-e
DTSTART:20261009T170000
DTEND:20261009T190000
CLASS:PUBLIC
DESCRIPTION:Wir sind ein gemiischter Gospelchor\, der sich über weitere S
 ängerinnen und Sänger aller Altersklassen freut! Gerne lockern wir die G
 ottesdienste auf\, und plauschen auch gerne noch nach der Probe.
LOCATION:Gemeindesaal Hohenbostel\, An der Kirche 1\, 30890\, Barsinghausen
SUMMARY:Gospelchor
END:VEVENT
BEGIN:VEVENT
DTSTAMP:20260225T070051Z
UID:event-occurrence-a39a3bbf-48c6-490b-a775-cc61282313d7-event-30c8b515-4b
 2c-4fd6-9268-4becbfc364f3@termine-e
DTSTART:20261016T170000
DTEND:20261016T190000
CLASS:PUBLIC
DESCRIPTION:Wir sind ein gemiischter Gospelchor\, der sich über weitere S
 ängerinnen und Sänger aller Altersklassen freut! Gerne lockern wir die G
 ottesdienste auf\, und plauschen auch gerne noch nach der Probe.
LOCATION:Gemeindesaal Hohenbostel\, An der Kirche 1\, 30890\, Barsinghausen
SUMMARY:Gospelchor
END:VEVENT
BEGIN:VEVENT
DTSTAMP:20260225T070051Z
UID:event-occurrence-4d2acefc-ccb0-429d-81d6-9bd3c893532d-event-30c8b515-4b
 2c-4fd6-9268-4becbfc364f3@termine-e
DTSTART:20261023T170000
DTEND:20261023T190000
CLASS:PUBLIC
DESCRIPTION:Wir sind ein gemiischter Gospelchor\, der sich über weitere S
 ängerinnen und Sänger aller Altersklassen freut! Gerne lockern wir die G
 ottesdienste auf\, und plauschen auch gerne noch nach der Probe.
LOCATION:Gemeindesaal Hohenbostel\, An der Kirche 1\, 30890\, Barsinghausen
SUMMARY:Gospelchor
END:VEVENT
BEGIN:VEVENT
DTSTAMP:20260225T070051Z
UID:event-occurrence-c43902bd-fa2d-4da5-87cc-beace6a7fe40-event-30c8b515-4b
 2c-4fd6-9268-4becbfc364f3@termine-e
DTSTART:20261030T170000
DTEND:20261030T190000
CLASS:PUBLIC
DESCRIPTION:Wir sind ein gemiischter Gospelchor\, der sich über weitere S
 ängerinnen und Sänger aller Altersklassen freut! Gerne lockern wir die G
 ottesdienste auf\, und plauschen auch gerne noch nach der Probe.
LOCATION:Gemeindesaal Hohenbostel\, An der Kirche 1\, 30890\, Barsinghausen
SUMMARY:Gospelchor
END:VEVENT
BEGIN:VEVENT
DTSTAMP:20260225T070051Z
UID:event-occurrence-a8ef985d-d6d4-4d9f-9e4e-93280ab55632-event-30c8b515-4b
 2c-4fd6-9268-4becbfc364f3@termine-e
DTSTART:20261106T170000
DTEND:20261106T190000
CLASS:PUBLIC
DESCRIPTION:Wir sind ein gemiischter Gospelchor\, der sich über weitere S
 ängerinnen und Sänger aller Altersklassen freut! Gerne lockern wir die G
 ottesdienste auf\, und plauschen auch gerne noch nach der Probe.
LOCATION:Gemeindesaal Hohenbostel\, An der Kirche 1\, 30890\, Barsinghausen
SUMMARY:Gospelchor
END:VEVENT
BEGIN:VEVENT
DTSTAMP:20260225T070051Z
UID:event-occurrence-bc89116a-467d-4d1b-9470-87508ba3f3cf-event-30c8b515-4b
 2c-4fd6-9268-4becbfc364f3@termine-e
DTSTART:20261113T170000
DTEND:20261113T190000
CLASS:PUBLIC
DESCRIPTION:Wir sind ein gemiischter Gospelchor\, der sich über weitere S
 ängerinnen und Sänger aller Altersklassen freut! Gerne lockern wir die G
 ottesdienste auf\, und plauschen auch gerne noch nach der Probe.
LOCATION:Gemeindesaal Hohenbostel\, An der Kirche 1\, 30890\, Barsinghausen
SUMMARY:Gospelchor
END:VEVENT
BEGIN:VEVENT
DTSTAMP:20260225T070051Z
UID:event-occurrence-1a2d8c04-512e-40bc-a3da-e58107b504a1-event-30c8b515-4b
 2c-4fd6-9268-4becbfc364f3@termine-e
DTSTART:20261120T170000
DTEND:20261120T190000
CLASS:PUBLIC
DESCRIPTION:Wir sind ein gemiischter Gospelchor\, der sich über weitere S
 ängerinnen und Sänger aller Altersklassen freut! Gerne lockern wir die G
 ottesdienste auf\, und plauschen auch gerne noch nach der Probe.
LOCATION:Gemeindesaal Hohenbostel\, An der Kirche 1\, 30890\, Barsinghausen
SUMMARY:Gospelchor
END:VEVENT
END:VCALENDAR
