BEGIN:VCALENDAR
VERSION:2.0
PRODID:icalendar-ruby
CALSCALE:GREGORIAN
BEGIN:VEVENT
DTSTAMP:20260401T075659Z
UID:event-occurrence-75bde7ad-8076-44e9-be97-ba96eddd8f7a-event-30919e90-7e
 95-4fcb-b486-64f90a77c21b@termine-e
DTSTART:20260503T110000
DTEND:20260503T000000
CLASS:PUBLIC
DESCRIPTION:P.i.R. Peter Büttner
LOCATION:Klosterkirche Fredelsloh\, Klosterhof 1\, 37186\, Fredelsloh
SUMMARY:Gottesdienst
END:VEVENT
END:VCALENDAR
