BEGIN:VCALENDAR
VERSION:2.0
PRODID:icalendar-ruby
CALSCALE:GREGORIAN
BEGIN:VEVENT
DTSTAMP:20260424T154147Z
UID:event-occurrence-81d9ede7-4c10-4dad-8316-c83caee65603-event-2fad246e-24
 a4-48f5-8b2e-2accf0c04a12@termine-e
DTSTART:20260510T180000
DTEND:20260510T000000
CLASS:PUBLIC
DESCRIPTION:Eine Veranstaltung im Rahmen des Mitsingfestivals:10. Mai 2026\
 , 18:00 Uhr: Lasst die Heide erklingen\, 1. Mitsingabend in der Südheide\
 , St. Peter-Paul Hermannsburg\, Bil­ling­s­tra­ße 18\, 29320 Hermanns
 burg
LOCATION:St. Peter-Paul-Kirche\, Billingstr. 18\, 29320\, Südheide
SUMMARY:Lasst die Heide erklingen\, 1. Mitsingabend in der Südheide
END:VEVENT
END:VCALENDAR
