BEGIN:VCALENDAR
VERSION:2.0
PRODID:icalendar-ruby
CALSCALE:GREGORIAN
BEGIN:VEVENT
DTSTAMP:20260310T094030Z
UID:event-occurrence-a1b8077d-921f-45d7-b231-72aea9281979-event-2e9b32f0-fc
 51-4a94-aa44-23c05625b75b@termine-e
DTSTART:20260322T103000
DTEND:20260322T000000
CLASS:PUBLIC
DESCRIPTION:Pastor Rückleben
LOCATION:Andreasgemeinde Norden\, Gottfried-Keller-Str. 3\, 26506\, Norden
SUMMARY:Vorstellungsgottesdienst der Konfirmanden
END:VEVENT
END:VCALENDAR
