BEGIN:VCALENDAR
VERSION:2.0
PRODID:icalendar-ruby
CALSCALE:GREGORIAN
BEGIN:VEVENT
DTSTAMP:20260413T073112Z
UID:event-occurrence-401c5811-fdac-4c20-b634-83df563fb645-event-2b6a7b67-f2
 ae-49ae-ae18-69548afc42ff@termine-e
DTSTART:20260430T170000
DTEND:20260430T000000
CLASS:PUBLIC
DESCRIPTION:"Der Mai ist gekommen" - der Komponist dieses Liedes war Pastor
  Lyra\, der u.a. auch in Gehrden lebte. Zur Erinnerung an ihn gibt es jede
 s Jahr eine Lyra-Feier mit Auftakt um 17 Uhr in der Margarethenkirche.
LOCATION:Margarethenkirche\, Marktplatz\, 30989\, Gehrden
SUMMARY:Lyra-Feier in Gehrden
END:VEVENT
END:VCALENDAR
