BEGIN:VCALENDAR
VERSION:2.0
PRODID:icalendar-ruby
CALSCALE:GREGORIAN
BEGIN:VEVENT
DTSTAMP:20260327T101401Z
UID:event-occurrence-325363f9-ee17-41ee-8982-4781590781a4-event-2ac4399b-85
 79-4ba8-8526-fd5d1a0691a9@termine-e
DTSTART:20260516T103000
DTEND:20260516T000000
CLASS:PUBLIC
DESCRIPTION:Halbstündige Führung durch die Ausstellung mitKlaus G. Kohn
LOCATION:St. Lamberti Hildesheim
SUMMARY:Führung durch die Ausstellung - PASSAGE Die Dinge | Das Leben - Fo
 toausstellung von Klaus G. Kohn
END:VEVENT
END:VCALENDAR
