BEGIN:VCALENDAR
VERSION:2.0
PRODID:icalendar-ruby
CALSCALE:GREGORIAN
BEGIN:VEVENT
DTSTAMP:20260314T144414Z
UID:event-occurrence-8226f5ab-21f5-41b6-9b0f-6494a268b0ab-event-29313276-7b
 18-45b0-ba01-5b44c145f35d@termine-e
DTSTART:20260929T170000
DTEND:20260929T190000
CLASS:PUBLIC
DESCRIPTION:Bei einer Exkursion zur Lobetalarbeit lernen die Konfis eine wi
 chtige diakonische Einrichtung kennen. Vor Ort bekommen sie Einblicke in d
 ie Arbeit mit Menschen mit Behinderungen und erfahren\, wie Kirche und Dia
 konie Menschen im Alltag begleiten und unterstützen. Dabei entdecken die 
 Jugendlichen\, wie christliche Nächstenliebe ganz praktisch gelebt wird.H
 inweis:Die angegebenen Uhrzeiten dienen zur Orientierung und können sich 
 im Einzelfall noch ändern. Der genaue Treffpunkt sowie weitere organi...
LOCATION:
SUMMARY:KU08: Exkursion Lobetal
END:VEVENT
END:VCALENDAR
