BEGIN:VCALENDAR
VERSION:2.0
PRODID:icalendar-ruby
CALSCALE:GREGORIAN
BEGIN:VEVENT
DTSTAMP:20260423T073054Z
UID:event-occurrence-c0a1abea-96af-4a77-9e67-7f1309098c09-event-292d3ba8-ca
 0d-4c0d-b34c-2a5cab899fd7@termine-e
DTSTART:20260531T100000
DTEND:20260531T000000
CLASS:PUBLIC
DESCRIPTION:Pastor Neumann
LOCATION:St. Abundus Groden\, Bei der Grodener Kirche 4:\, 27472\, Cuxhaven
SUMMARY:Gottesdienst
END:VEVENT
END:VCALENDAR
