BEGIN:VCALENDAR
VERSION:2.0
PRODID:icalendar-ruby
CALSCALE:GREGORIAN
BEGIN:VEVENT
DTSTAMP:20260414T064638Z
UID:event-occurrence-75f1fca3-2538-496a-a3b9-682b73595945-event-28f2b645-5f
 d4-40bb-a29b-d59bd3739cc3@termine-e
DTSTART:20260308T100000
DTEND:20260308T110000
CLASS:PUBLIC
LOCATION:Alexandrikirche\, Luttringhäuser Weg 1\, 30890\, Bantorf
SUMMARY:Gottesdienst
END:VEVENT
BEGIN:VEVENT
DTSTAMP:20260414T064638Z
UID:event-occurrence-cf8ea53e-7227-40b3-a5ab-6cfde13dd077-event-28f2b645-5f
 d4-40bb-a29b-d59bd3739cc3@termine-e
DTSTART:20260322T100000
DTEND:20260322T110000
CLASS:PUBLIC
LOCATION:Alexandrikirche\, Luttringhäuser Weg 1\, 30890\, Bantorf
SUMMARY:Gottesdienst
END:VEVENT
BEGIN:VEVENT
DTSTAMP:20260414T064638Z
UID:event-occurrence-ffc1105c-40f8-41b7-965c-3c54c3edd86f-event-28f2b645-5f
 d4-40bb-a29b-d59bd3739cc3@termine-e
DTSTART:20260405T100000
DTEND:20260405T110000
CLASS:PUBLIC
LOCATION:Alexandrikirche\, Luttringhäuser Weg 1\, 30890\, Bantorf
SUMMARY:Gottesdienst
END:VEVENT
BEGIN:VEVENT
DTSTAMP:20260414T064638Z
UID:event-occurrence-50c1bef2-fa66-4d75-8967-6ae26d51ffe9-event-28f2b645-5f
 d4-40bb-a29b-d59bd3739cc3@termine-e
DTSTART:20260419T100000
DTEND:20260419T110000
CLASS:PUBLIC
LOCATION:Alexandrikirche\, Luttringhäuser Weg 1\, 30890\, Bantorf
SUMMARY:Gottesdienst
END:VEVENT
BEGIN:VEVENT
DTSTAMP:20260414T064638Z
UID:event-occurrence-8321daa5-818d-4647-8776-e0f630d84f11-event-28f2b645-5f
 d4-40bb-a29b-d59bd3739cc3@termine-e
DTSTART:20260503T100000
DTEND:20260503T110000
CLASS:PUBLIC
LOCATION:Alexandrikirche\, Luttringhäuser Weg 1\, 30890\, Bantorf
SUMMARY:Gottesdienst
END:VEVENT
BEGIN:VEVENT
DTSTAMP:20260414T064638Z
UID:event-occurrence-bb0ba4dd-d5e9-440f-b9ae-9a6604b90e74-event-28f2b645-5f
 d4-40bb-a29b-d59bd3739cc3@termine-e
DTSTART:20260517T100000
DTEND:20260517T110000
CLASS:PUBLIC
LOCATION:Alexandrikirche\, Luttringhäuser Weg 1\, 30890\, Bantorf
SUMMARY:Gottesdienst
END:VEVENT
BEGIN:VEVENT
DTSTAMP:20260414T064638Z
UID:event-occurrence-39380be8-da9d-452c-99bd-d49598367ffa-event-28f2b645-5f
 d4-40bb-a29b-d59bd3739cc3@termine-e
DTSTART:20260531T100000
DTEND:20260531T110000
CLASS:PUBLIC
LOCATION:Alexandrikirche\, Luttringhäuser Weg 1\, 30890\, Bantorf
SUMMARY:Gottesdienst
END:VEVENT
BEGIN:VEVENT
DTSTAMP:20260414T064638Z
UID:event-occurrence-b4a116b2-bbb7-4517-9ec5-232e3f7f99a8-event-28f2b645-5f
 d4-40bb-a29b-d59bd3739cc3@termine-e
DTSTART:20260614T100000
DTEND:20260614T110000
CLASS:PUBLIC
LOCATION:Alexandrikirche\, Luttringhäuser Weg 1\, 30890\, Bantorf
SUMMARY:Gottesdienst
END:VEVENT
BEGIN:VEVENT
DTSTAMP:20260414T064638Z
UID:event-occurrence-27a06790-ba5a-4857-8d6c-63a32c382d4c-event-28f2b645-5f
 d4-40bb-a29b-d59bd3739cc3@termine-e
DTSTART:20260628T100000
DTEND:20260628T110000
CLASS:PUBLIC
LOCATION:Alexandrikirche\, Luttringhäuser Weg 1\, 30890\, Bantorf
SUMMARY:Gottesdienst
END:VEVENT
BEGIN:VEVENT
DTSTAMP:20260414T064638Z
UID:event-occurrence-ccd43ac5-52e9-45c9-b681-e0a2e09c2491-event-28f2b645-5f
 d4-40bb-a29b-d59bd3739cc3@termine-e
DTSTART:20260712T100000
DTEND:20260712T110000
CLASS:PUBLIC
LOCATION:Alexandrikirche\, Luttringhäuser Weg 1\, 30890\, Bantorf
SUMMARY:Gottesdienst
END:VEVENT
BEGIN:VEVENT
DTSTAMP:20260414T064638Z
UID:event-occurrence-1985e3ab-82fd-482e-a495-57a95fa1bfa4-event-28f2b645-5f
 d4-40bb-a29b-d59bd3739cc3@termine-e
DTSTART:20260726T100000
DTEND:20260726T110000
CLASS:PUBLIC
LOCATION:Alexandrikirche\, Luttringhäuser Weg 1\, 30890\, Bantorf
SUMMARY:Gottesdienst
END:VEVENT
BEGIN:VEVENT
DTSTAMP:20260414T064638Z
UID:event-occurrence-6229433e-d57a-4ee2-affc-0daf68792a12-event-28f2b645-5f
 d4-40bb-a29b-d59bd3739cc3@termine-e
DTSTART:20260809T100000
DTEND:20260809T110000
CLASS:PUBLIC
LOCATION:Alexandrikirche\, Luttringhäuser Weg 1\, 30890\, Bantorf
SUMMARY:Gottesdienst
END:VEVENT
BEGIN:VEVENT
DTSTAMP:20260414T064638Z
UID:event-occurrence-de103003-0887-4a66-9377-1090ba5e8470-event-28f2b645-5f
 d4-40bb-a29b-d59bd3739cc3@termine-e
DTSTART:20260823T100000
DTEND:20260823T110000
CLASS:PUBLIC
LOCATION:Alexandrikirche\, Luttringhäuser Weg 1\, 30890\, Bantorf
SUMMARY:Gottesdienst
END:VEVENT
BEGIN:VEVENT
DTSTAMP:20260414T064638Z
UID:event-occurrence-8c8544cb-aa42-4ed8-b19f-d8d23f709c7e-event-28f2b645-5f
 d4-40bb-a29b-d59bd3739cc3@termine-e
DTSTART:20260906T100000
DTEND:20260906T110000
CLASS:PUBLIC
LOCATION:Alexandrikirche\, Luttringhäuser Weg 1\, 30890\, Bantorf
SUMMARY:Gottesdienst
END:VEVENT
BEGIN:VEVENT
DTSTAMP:20260414T064638Z
UID:event-occurrence-bda876a3-ffce-4816-9630-d04b7b794a96-event-28f2b645-5f
 d4-40bb-a29b-d59bd3739cc3@termine-e
DTSTART:20260920T100000
DTEND:20260920T110000
CLASS:PUBLIC
LOCATION:Alexandrikirche\, Luttringhäuser Weg 1\, 30890\, Bantorf
SUMMARY:Gottesdienst
END:VEVENT
BEGIN:VEVENT
DTSTAMP:20260414T064638Z
UID:event-occurrence-1eaca37a-78fe-4276-be52-e8022fa53342-event-28f2b645-5f
 d4-40bb-a29b-d59bd3739cc3@termine-e
DTSTART:20261004T100000
DTEND:20261004T110000
CLASS:PUBLIC
LOCATION:Alexandrikirche\, Luttringhäuser Weg 1\, 30890\, Bantorf
SUMMARY:Gottesdienst
END:VEVENT
BEGIN:VEVENT
DTSTAMP:20260414T064638Z
UID:event-occurrence-7b805415-6017-4f76-95ff-fe26f2e67ae5-event-28f2b645-5f
 d4-40bb-a29b-d59bd3739cc3@termine-e
DTSTART:20261018T100000
DTEND:20261018T110000
CLASS:PUBLIC
LOCATION:Alexandrikirche\, Luttringhäuser Weg 1\, 30890\, Bantorf
SUMMARY:Gottesdienst
END:VEVENT
BEGIN:VEVENT
DTSTAMP:20260414T064638Z
UID:event-occurrence-ad5c2381-1ef7-4db1-a8e7-5285e75a9646-event-28f2b645-5f
 d4-40bb-a29b-d59bd3739cc3@termine-e
DTSTART:20261101T100000
DTEND:20261101T110000
CLASS:PUBLIC
LOCATION:Alexandrikirche\, Luttringhäuser Weg 1\, 30890\, Bantorf
SUMMARY:Gottesdienst
END:VEVENT
BEGIN:VEVENT
DTSTAMP:20260414T064638Z
UID:event-occurrence-ce5fe695-bb83-479b-9662-5f032d7265ba-event-28f2b645-5f
 d4-40bb-a29b-d59bd3739cc3@termine-e
DTSTART:20261115T100000
DTEND:20261115T110000
CLASS:PUBLIC
LOCATION:Alexandrikirche\, Luttringhäuser Weg 1\, 30890\, Bantorf
SUMMARY:Gottesdienst
END:VEVENT
BEGIN:VEVENT
DTSTAMP:20260414T064638Z
UID:event-occurrence-6b79bafd-a2b8-413f-8392-45ebf8d67d97-event-28f2b645-5f
 d4-40bb-a29b-d59bd3739cc3@termine-e
DTSTART:20261129T100000
DTEND:20261129T110000
CLASS:PUBLIC
LOCATION:Alexandrikirche\, Luttringhäuser Weg 1\, 30890\, Bantorf
SUMMARY:Gottesdienst
END:VEVENT
END:VCALENDAR
