BEGIN:VCALENDAR
VERSION:2.0
PRODID:icalendar-ruby
CALSCALE:GREGORIAN
BEGIN:VEVENT
DTSTAMP:20260409T142534Z
UID:event-occurrence-e86fa6ca-1a81-4586-9869-a3a78f8162c5-event-28a99ef0-69
 a3-438a-a0de-52595f77f92a@termine-e
DTSTART:20260514T100000
DTEND:20260514T000000
CLASS:PUBLIC
DESCRIPTION:in Kirchboitzen im Pfarrgartenmit Pastor Claus van Veldhuizen
LOCATION:
SUMMARY:Christi Himmelfahrt - gemeinsamer Gottesdienst mit der Kirchengemei
 nde Kirchboitzen
END:VEVENT
END:VCALENDAR
